BEGIN:VCALENDAR
VERSION:2.0
PRODID:-//ChamberMaster//Event Calendar 2.0//EN
METHOD:PUBLISH
X-PUBLISHED-TTL:P3D
REFRESH-INTERVAL:P3D
CALSCALE:GREGORIAN
BEGIN:VEVENT
DTSTART:20210210T170000Z
DTEND:20210210T180000Z
X-MICROSOFT-CDO-ALLDAYEVENT:FALSE
SUMMARY:The Line 5 Straits Tunnel--Will it Become a Reality?
DESCRIPTION:In April of 2020\, Enbridge Energy submitted multiple permit applications to the state and federal governments to replace and relocate a portion of the Line 5 pipeline in a tunnel beneath the Straits of Mackinac. In order for the tunnel project to become a reality\, Enbridge must obtain local\, state\, and federal approvals. Many decisions are expected in late 2020. Join the Watershed Council's Policy Director Jennifer McKay to hear the status of the various permit applications. In addition\, you will hear about the Michigan Public Service Commission case.
X-ALT-DESC;FMTTYPE=text/html:<span style="color:#000000\;"><span style="font-family: &quot\;Open Sans&quot\;\; font-size: 14px\; background-color: rgba(255\, 253\, 253\, 0.392)\;">In April of 2020\, Enbridge Energy submitted multiple permit applications to the state and federal governments to replace and relocate a portion of the Line 5 pipeline in a tunnel beneath the Straits of Mackinac. In order for the tunnel project to become a reality\, Enbridge must obtain local\, state\, and federal approvals. Many decisions are expected in late 2020. Join the Watershed Council&rsquo\;s Policy Director Jennifer McKay to hear the status of the various permit applications. In addition\, you will hear about the Michigan Public Service Commission case.</span></span>
LOCATION:Hosted on line. Register at: www.watershedcouncil.org/attend-an-event
UID:e.2409.24421
SEQUENCE:3
DTSTAMP:20260421T205702Z
URL:https://business.elkrapidschamber.org/events/details/the-line-5-straits-tunnel-will-it-become-a-reality-24421
END:VEVENT

END:VCALENDAR
