BEGIN:VCALENDAR
VERSION:2.0
PRODID:-//ChamberMaster//Event Calendar 2.0//EN
METHOD:PUBLISH
X-PUBLISHED-TTL:P3D
REFRESH-INTERVAL:P3D
CALSCALE:GREGORIAN
BEGIN:VEVENT
DTSTART:20201211T223000Z
DTEND:20201212T003000Z
X-MICROSOFT-CDO-ALLDAYEVENT:FALSE
SUMMARY:The Christmas Journey
DESCRIPTION:Experience the story of Christmas from Creation to Bethlehem and beyond in a 45 minute outdoor tour.  \n\nFree of charge\, our gift to the surrounding area.
X-ALT-DESC;FMTTYPE=text/html:Experience the story of Christmas from Creation to Bethlehem and beyond in a 45 minute outdoor tour.&nbsp\;&nbsp\;<br />\nFree of charge\, our gift to the surrounding area.
LOCATION:New Hope Community Church 5100 Bethesda Court Williamsburg\, MI 49690
UID:e.2409.24401
SEQUENCE:3
DTSTAMP:20260422T000305Z
URL:https://business.elkrapidschamber.org/events/details/the-christmas-journey-12-11-2020-24401
END:VEVENT

END:VCALENDAR
