BEGIN:VCALENDAR
VERSION:2.0
PRODID:-//ChamberMaster//Event Calendar 2.0//EN
METHOD:PUBLISH
X-PUBLISHED-TTL:P3D
REFRESH-INTERVAL:P3D
CALSCALE:GREGORIAN
BEGIN:VEVENT
DTSTART:20190722T153000Z
DTEND:20190722T173000Z
X-MICROSOFT-CDO-ALLDAYEVENT:FALSE
SUMMARY:The Bully Pulpit
DESCRIPTION:Please join us on Monday\, July 22nd for The Bully Pulpit featuring Tim Skubick\, host of WKAR-TV's Off the Record. This special summer luncheon is being hosted by the Great Lakes Equestrian Festival in their VIP Club. Tickets include lunch\, wine\, two tickets to an upcoming 2019 horse show of your choice\, as well as a private group tour of the facility upon request.
X-ALT-DESC;FMTTYPE=text/html:Please join us on Monday\, July 22nd for The Bully Pulpit featuring Tim Skubick\, host of WKAR-TV&rsquo\;s Off the Record. This special summer luncheon is being hosted by the Great Lakes Equestrian Festival in their VIP Club. Tickets include lunch\, wine\, two tickets to an upcoming 2019 horse show of your choice\, as well as a private group tour of the facility upon request.
LOCATION:Great Lakes Equestrian Festival @ Flintfields Horse Park 6535 Bates Road\, Williamsburg\, MI 49690 Ten miles east of Traverse City.
UID:e.2409.20172
SEQUENCE:3
DTSTAMP:20260425T140914Z
URL:https://business.elkrapidschamber.org/events/details/the-bully-pulpit-20172
END:VEVENT

END:VCALENDAR
