BEGIN:VCALENDAR
VERSION:2.0
PRODID:-//ChamberMaster//Event Calendar 2.0//EN
METHOD:PUBLISH
X-PUBLISHED-TTL:P3D
REFRESH-INTERVAL:P3D
CALSCALE:GREGORIAN
BEGIN:VEVENT
DTSTART:20191207T220000Z
DTEND:20191208T010000Z
X-MICROSOFT-CDO-ALLDAYEVENT:FALSE
SUMMARY:The Brute Creation at Ethanolo¿y
DESCRIPTION:Kyle' exhibition showcases the dichotomy between humans and wildlife. Taking its name from Henry David Thoreau's book 'Walden' the collection melds nature\, art and machinery.\n\n \n\nEach piece originates from Kyle's workshop\, a historic House in Elk Rapids\, Michigan\, where he designs and fabricates machines. Build from geometric templates\, cut and welded from up cycled steel\, and adorned with natural material\, the pieces are decorative as they are functional.\n\n \n\nKyle LaLone is passionate about wildlife conservation and engineering and is honored to collaborate with Ethanology to share this amazing collection. Kyle will be here to discuss each piece\, their intricacies and inspiration
X-ALT-DESC;FMTTYPE=text/html:<div style="font-family: Arial\, Verdana\, Helvetica\, sans-serif\; font-size: 14px\; background-color: rgb(209\, 203\, 209)\;"><span style="font-family: Helvetica\, Arial\, sans-serif\; font-weight: bold\;">Kyle&#39\; exhibition showcases the dichotomy between humans and wildlife. Taking its name from Henry David Thoreau&#39\;s book &#39\;Walden&#39\; the collection melds nature\, art and machinery.</span></div>\n\n<div style="font-family: Arial\, Verdana\, Helvetica\, sans-serif\; font-size: 14px\; background-color: rgb(209\, 203\, 209)\;">&nbsp\;</div>\n\n<div style="font-family: Arial\, Verdana\, Helvetica\, sans-serif\; font-size: 14px\; background-color: rgb(209\, 203\, 209)\;"><span style="font-family: Helvetica\, Arial\, sans-serif\; font-weight: bold\;">Each piece originates from Kyle&#39\;s workshop\, a historic House in Elk Rapids\, Michigan\, where he designs and fabricates machines. Build from geometric templates\, cut and welded from up cycled steel\, and adorned with natural material\, the pieces are decorative as they are functional.</span></div>\n\n<div style="font-family: Arial\, Verdana\, Helvetica\, sans-serif\; font-size: 14px\; background-color: rgb(209\, 203\, 209)\;">&nbsp\;</div>\n\n<div style="font-family: Arial\, Verdana\, Helvetica\, sans-serif\; font-size: 14px\; background-color: rgb(209\, 203\, 209)\;"><span style="font-family: Helvetica\, Arial\, sans-serif\; font-weight: bold\;">Kyle LaLone is passionate about wildlife conservation and engineering and is honored to collaborate with&nbsp\;</span><a href="http://r20.rs6.net/tn.jsp?f=001TP37VAhpoAOiB3reh4vrAsoSKVA9tn84EnBUSji8BDUEeggOkWWCQ3sFRaeACvgmyi2AXcn4oekrcNOZMEfKEwMsrb07IMAjhi3pHS21sfzSMQKHkvj4KiXRn0I-j-Z6qgdWJJmsZW-cEvTq9fjGqq3Y8BT8i4W7eYS9ucj5eU4=&amp\;c=CwXa88EWs8EbXjxMmGTiY0GT4hCG6tTvH8E6qcK1Xvh-XeN17MxAUg==&amp\;ch=E4PithFxWxJE7dA2n4NAva3ykp9HZJaq7LlHT8uXtV-AnygBzi1QIA==" rel="nofollow" style="color: rgb(41\, 75\, 147)\; text-decoration-line: none\; font-family: Helvetica\, Arial\, sans-serif\; font-weight: bold\;" target="_blank">Ethanology</a><span style="font-family: Helvetica\, Arial\, sans-serif\; font-weight: bold\;">&nbsp\;to share this amazing collection. Kyle will be here to discuss each piece\, their intricacies and inspiration</span></div>\n
LOCATION:127 Ames Street Elk Rapids\, MI 49629
UID:e.2409.22410
SEQUENCE:3
DTSTAMP:20260419T153411Z
URL:https://business.elkrapidschamber.org/events/details/the-brute-creation-at-ethanolo-y-22410
END:VEVENT

END:VCALENDAR
