BEGIN:VCALENDAR
VERSION:2.0
PRODID:-//ChamberMaster//Event Calendar 2.0//EN
METHOD:PUBLISH
X-PUBLISHED-TTL:P3D
REFRESH-INTERVAL:P3D
CALSCALE:GREGORIAN
BEGIN:VEVENT
DTSTART:20220611T000000Z
DTEND:20220611T020000Z
X-MICROSOFT-CDO-ALLDAYEVENT:FALSE
SUMMARY:The Accidentals Concert @ HERTH (re-scheduled from May 28)
DESCRIPTION:To purchase tickets:    https://www.accelevents.com/e/the-accidentals \n\n\n\nThe Accidentals are an American band\, formed in Traverse City\, Michigan in 2012 by singer-songwriters and multi-instrumentalists Sav Buist and Katie Larson. The group has featured an eclectic blend of indie-folk\, pop\, bluegrass\, rock\, classical\, and other genres. They have released four full-length albums\, three EPs\, and two live albums.
X-ALT-DESC;FMTTYPE=text/html:To purchase tickets: &nbsp\;&nbsp\;<a href="https://www.accelevents.com/e/the-accidentals"><span style="color:#0000FF\;">&nbsp\;<span style="font-family: sans-serif\, Arial\, Verdana\, &quot\;Trebuchet MS&quot\;\; font-size: 13px\; background-color: rgb(255\, 255\, 255)\;">https://www.accelevents.com/e/the-accidentals</span>&nbsp\;</span></a><br />\n<br />\nThe Accidentals are an American band\, formed in Traverse City\, Michigan in 2012 by singer-songwriters and multi-instrumentalists Sav Buist and Katie Larson. The group has featured an eclectic blend of indie-folk\, pop\, bluegrass\, rock\, classical\, and other genres. They have released four full-length albums\, three EPs\, and two live albums.<br />\n&nbsp\;
LOCATION:Historic Old Town Hall River StreetElk Rapids MI 49629Elk Rapids\, MI\, US
UID:e.2409.30199
SEQUENCE:3
DTSTAMP:20260420T202902Z
URL:https://business.elkrapidschamber.org/events/details/the-accidentals-concert-herth-re-scheduled-from-may-28-30199
END:VEVENT

END:VCALENDAR
