BEGIN:VCALENDAR
VERSION:2.0
PRODID:-//ChamberMaster//Event Calendar 2.0//EN
METHOD:PUBLISH
X-PUBLISHED-TTL:P3D
REFRESH-INTERVAL:P3D
CALSCALE:GREGORIAN
BEGIN:VEVENT
DTSTART:20230310T223000Z
DTEND:20230311T000000Z
X-MICROSOFT-CDO-ALLDAYEVENT:FALSE
SUMMARY:TGIF Ames St. Cafe Dinner with BOS Cafe
DESCRIPTION:We are excited to be partnering again with Ames St Cafe to bring you Pulled Pork topped Mac-N-Cheese!\n\nYour ticket will include Mac-N-Cheese topped with Pulled Pork\, a side of Kale Salad\, and a glass of BOS Blaufr nkisch or Wishflower for $32. Tickets are required and can be purchased HERE.\n\nCome to BOS Wine Garden to enjoy your dinner and wine starting at 5:30 pm.
X-ALT-DESC;FMTTYPE=text/html:<p style="margin: 0px\; padding: 0px\; font-family: Arial\, Verdana\, Helvetica\, sans-serif\; font-size: 12px\; white-space: pre-wrap\; background-color: rgb(233\, 228\, 228)\;"><span style="font-size: 14px\;">We are excited to be partnering again with Ames St Cafe to bring you Pulled Pork topped Mac-N-Cheese!</span></p>\n\n<p style="margin: 0px\; padding: 0px\; font-family: Arial\, Verdana\, Helvetica\, sans-serif\; font-size: 12px\; white-space: pre-wrap\; background-color: rgb(233\, 228\, 228)\;"><span style="font-size: 14px\;">Your ticket will include Mac-N-Cheese topped with Pulled Pork\, a side of Kale Salad\, and a glass of BOS Blaufr&auml\;nkisch or Wishflower for $32. Tickets are required and can be purchased&nbsp\;</span><a href="https://u2055856.ct.sendgrid.net/ls/click?upn=lkVIWMU5h-2BDWaQlKZsLI1bVfL90izDtHrTZ-2FFQG9QmXpBMUGn6vezDYEStvgS3LgE1izLRcB8NS-2BquO5hFzDq97TX2GLlRWvmdpz1Or-2BUnoZ8fqtYx8bMYq48mUfAz-2FGQ-2BLkYn1TR7a-2FfvVEQaSb0dUU4wmiJ2nRjg5m0jm9XGilTRlkAw2Zol2iI55Gr6kbeJyMZ5QzaV0LqyhDSqPkJeFPyPoeuULgRygTgdfXF7TmV7-2B3HQSl4UvbCuNCKWZiEr8lhK1mjl8tzBNpHfDcOAnWE7pqIZgNIyQVu2B-2FN-2B-2BViEn3RbvhT9Q-2FNtwQK-2BoZhn2je8I85VbIjdduv-2FYLfrp2lWJvNyw7OEod2F4CphM-3Dj4-g_xAtMGaMkWf5emRe4bUHbNuTS2fuXcTQCeleXaWLQAGXH6WsoljrbCV5KeHW5zN6tSh-2BlzpiNqhVKu4k5-2BBt1EQZdbpMXLuxky7WFclMsSk-2Fk3i32wl6Uss4qtHDOvgvx7PQNDiMBV2EsPtT9E81WNc8Bk6EGA0et-2BzSVU65cU6J2LqPpCJgBO8dK9ytnvjPQFqu-2BixgrC-2FJa47imyM-2FqcObPUJU-2FgChhPLN0InPOpbvgN7feyNOr6GOPF5REA7KHrVJ8kNqKzGUIU-2FhaenabAhAswWA6hNW7-2BxBGGYpnzhoH8nlyjvqXCSH2LrtpSkkEBjB6vE4syE3C6psLhhWXNlP0jn4Cv81OssE8kJu4IP50N8ZCvV-2BbsNuvufmr3ugQ27f-2FGi0oszEhM7BrOJesjT2taThb3ce6RkAmgD02mNUbUSGClOlykUP0jCeNrGAGoSJ1364nq3UXaaZT0YQeIQ-3D-3D" style="text-decoration-line: none\; color: rgb(255\, 102\, 0)\; font-size: 14px\;" target="_blank">HERE</a><span style="font-size: 14px\;">.</span></p>\n\n<p style="margin: 0px\; padding: 0px\; font-family: Arial\, Verdana\, Helvetica\, sans-serif\; font-size: 12px\; white-space: pre-wrap\; background-color: rgb(233\, 228\, 228)\;"><span style="font-size: 14px\;">Come to BOS Wine Garden to enjoy your dinner and wine starting at 5:30 pm.</span></p>\n\n<p style="margin: 0px\; padding: 0px\; font-family: Arial\, Verdana\, Helvetica\, sans-serif\; font-size: 12px\; white-space: pre-wrap\; background-color: rgb(233\, 228\, 228)\;">&nbsp\;</p>\n
LOCATION:BOS Wine 135 Ames St. Elk Rapids\, MI
UID:e.2409.36128
SEQUENCE:3
DTSTAMP:20260420T070012Z
URL:https://business.elkrapidschamber.org/events/details/tgif-ames-st-cafe-dinner-with-bos-cafe-36128
END:VEVENT

END:VCALENDAR
