BEGIN:VCALENDAR
VERSION:2.0
PRODID:-//ChamberMaster//Event Calendar 2.0//EN
METHOD:PUBLISH
X-PUBLISHED-TTL:P3D
REFRESH-INTERVAL:P3D
CALSCALE:GREGORIAN
BEGIN:VEVENT
DTSTART:20190501T200000Z
DTEND:20190501T233000Z
X-MICROSOFT-CDO-ALLDAYEVENT:FALSE
SUMMARY:TBAISD Career Tech Spring Expo
DESCRIPTION:Support the Next Generation fo skilled workers in the Grand Traverse Area! Building Skills showdown: Purchase raffle tickets to win your favorite entry. 5 for $100 or $20 each. TIckets are available at the BAGTA Office: 3040 Sunset Lane\, Traverse City. 231-946-2305
X-ALT-DESC;FMTTYPE=text/html:Support the Next Generation fo skilled workers in the Grand Traverse Area! Building Skills showdown: Purchase raffle tickets to win your favorite entry. 5 for $100 or $20 each. TIckets are available at the BAGTA Office: 3040 Sunset Lane\, Traverse City. 231-946-2305
LOCATION:
UID:e.2409.19083
SEQUENCE:3
DTSTAMP:20260426T002618Z
URL:https://business.elkrapidschamber.org/events/details/tbaisd-career-tech-spring-expo-19083
END:VEVENT

END:VCALENDAR
