BEGIN:VCALENDAR
VERSION:2.0
PRODID:-//ChamberMaster//Event Calendar 2.0//EN
METHOD:PUBLISH
X-PUBLISHED-TTL:P3D
REFRESH-INTERVAL:P3D
CALSCALE:GREGORIAN
BEGIN:VEVENT
DTSTART:20220503T200000Z
DTEND:20220503T210000Z
X-MICROSOFT-CDO-ALLDAYEVENT:FALSE
SUMMARY:Tart Trails Acme Connector Groundbreaking
DESCRIPTION:You're invited to join TART Trails\, Top of Michigan Trails Council\, and community partners for our Acme Connector Trail Groundbreaking celebration!\n\nThe celebration is Tuesday\, May 3 at 4:00 pm at the TART Trail terminus at Bunker Hill Road in Acme Township.\n\nParking is limited. Please consider carpooling\, riding\, or walking if possible.  We have designated a few park and ride lots for you to safely carpool\, walk\, or bike from. You may legally park in any of these lots: TBACU ATM parking lot at the corner of Holiday Rd and US 31 North\, Three Mile parking area at the corner of Parsons and Three Mile Roads\, or any of the parks or Traverse City public parking lots that allow parking near the trail. Please note the parking area to the north of the TART terminus at Bunker Hill will not be accessible.
X-ALT-DESC;FMTTYPE=text/html:<p style="box-sizing: inherit\; overflow-wrap: break-word\; font-size: var(--tec-font-size-4)\; line-height: var(--tec-line-height-2)\; margin-bottom: var(--tec-spacer-3)\; color: rgb(20\, 24\, 39)\; font-family: &quot\;Helvetica Neue&quot\;\, Helvetica\, -apple-system\, BlinkMacSystemFont\, Roboto\, Arial\, sans-serif\;">You&rsquo\;re invited to join TART Trails\, Top of Michigan Trails Council\, and community partners for our Acme Connector Trail Groundbreaking celebration!</p>\n\n<p style="box-sizing: inherit\; overflow-wrap: break-word\; font-size: var(--tec-font-size-4)\; line-height: var(--tec-line-height-2)\; margin-bottom: var(--tec-spacer-3)\; color: rgb(20\, 24\, 39)\; font-family: &quot\;Helvetica Neue&quot\;\, Helvetica\, -apple-system\, BlinkMacSystemFont\, Roboto\, Arial\, sans-serif\;">The celebration is&nbsp\;<span style="box-sizing: inherit\; font-weight: bolder\;">Tuesday\, May 3 at 4:00 pm</span>&nbsp\;at the TART Trail terminus at Bunker Hill Road&nbsp\;in Acme Township.</p>\n\n<p style="box-sizing: inherit\; overflow-wrap: break-word\; font-size: var(--tec-font-size-4)\; line-height: var(--tec-line-height-2)\; margin-bottom: var(--tec-spacer-6)\; color: rgb(20\, 24\, 39)\; font-family: &quot\;Helvetica Neue&quot\;\, Helvetica\, -apple-system\, BlinkMacSystemFont\, Roboto\, Arial\, sans-serif\;"><span style="box-sizing: inherit\; font-weight: bolder\;">Parking is limited</span>. Please consider carpooling\, riding\, or walking if possible.&nbsp\; We have designated a few park and ride lots for you to safely carpool\, walk\, or bike from. You may legally park in any of these lots: TBACU ATM parking lot at the corner of Holiday Rd and US 31 North\, Three Mile parking area at the corner of Parsons and Three Mile Roads\, or any of the parks or Traverse City public parking lots that allow parking near the trail.&nbsp\;<span style="box-sizing: inherit\; font-weight: bolder\;">Please note the parking area to the north of the TART terminus at Bunker Hill will not be accessible.</span></p>\n
LOCATION:
UID:e.2409.30198
SEQUENCE:3
DTSTAMP:20260420T202617Z
URL:https://business.elkrapidschamber.org/events/details/tart-trails-acme-connector-groundbreaking-30198
END:VEVENT

END:VCALENDAR
