BEGIN:VCALENDAR
VERSION:2.0
PRODID:-//ChamberMaster//Event Calendar 2.0//EN
METHOD:PUBLISH
X-PUBLISHED-TTL:P3D
REFRESH-INTERVAL:P3D
CALSCALE:GREGORIAN
BEGIN:VEVENT
DTSTART:20231130T223000Z
DTEND:20231201T003000Z
X-MICROSOFT-CDO-ALLDAYEVENT:FALSE
SUMMARY:Tamales at BOS Wine
DESCRIPTION:Time for another Tamale Night with Sabores Y Colores! Join us on Thursday\, November 30th!\n\n\n\nChef Eddie will be making 2 different types of Tamales (Pork and Cheese) and we are excited to share with you!\n\n\n\nYour ticket will include 3 Tamales\, Chips and Salsa\, a glass of BOS Riesling for $26. Tickets are available via here: https://www.exploretock.com/bos.../event/449006/tamale-night\n\n\n\nCome to BOS Wine Garden to enjoy your Tamales and wine starting at 5:30pm or after.
X-ALT-DESC;FMTTYPE=text/html:<div class="xdj266r x11i5rnm xat24cr x1mh8g0r x1vvkbs x126k92a" style="margin: 0px\; overflow-wrap: break-word\; white-space-collapse: preserve\; font-family: &quot\;Segoe UI Historic&quot\;\, &quot\;Segoe UI&quot\;\, Helvetica\, Arial\, sans-serif\; color: rgb(5\, 5\, 5)\; font-size: 15px\; background-color: rgb(255\, 255\, 255)\;">\n<div dir="auto" style="font-family: inherit\;">Time for another Tamale Night with Sabores Y Colores! Join us on Thursday\, November 30th!</div>\n</div>\n\n<div class="x11i5rnm xat24cr x1mh8g0r x1vvkbs xtlvy1s x126k92a" style="margin: 0.5em 0px 0px\; overflow-wrap: break-word\; white-space-collapse: preserve\; font-family: &quot\;Segoe UI Historic&quot\;\, &quot\;Segoe UI&quot\;\, Helvetica\, Arial\, sans-serif\; color: rgb(5\, 5\, 5)\; font-size: 15px\; background-color: rgb(255\, 255\, 255)\;">\n<div dir="auto" style="font-family: inherit\;">Chef Eddie will be making 2 different types of Tamales (Pork and Cheese) and we are excited to share with you!</div>\n</div>\n\n<div class="x11i5rnm xat24cr x1mh8g0r x1vvkbs xtlvy1s x126k92a" style="margin: 0.5em 0px 0px\; overflow-wrap: break-word\; white-space-collapse: preserve\; font-family: &quot\;Segoe UI Historic&quot\;\, &quot\;Segoe UI&quot\;\, Helvetica\, Arial\, sans-serif\; color: rgb(5\, 5\, 5)\; font-size: 15px\; background-color: rgb(255\, 255\, 255)\;">\n<div dir="auto" style="font-family: inherit\;">Your ticket will include 3 Tamales\, Chips and Salsa\, a glass of BOS Riesling for $26. Tickets are available via here: <span style="font-family: inherit\;"><a class="x1i10hfl xjbqb8w x6umtig x1b1mbwd xaqea5y xav7gou x9f619 x1ypdohk xt0psk2 xe8uvvx xdj266r x11i5rnm xat24cr x1mh8g0r xexx8yu x4uap5 x18d9i69 xkhd6sd x16tdsg8 x1hl2dhg xggy1nq x1a2a7pz xt0b8zv x1fey0fg" href="https://www.exploretock.com/boswine/event/449006/tamale-night?fbclid=IwAR28y8yoQDIrXponqkv_pFE9BcqFg1esby9qVYxDszkB0m7yS6zayp19B_c" rel="nofollow noreferrer" role="link" style="cursor: pointer\; text-decoration-line: none\; outline: none\; border-width: 0px\; border-style: initial\; border-color: initial\; list-style: none\; margin: 0px\; text-align: inherit\; padding: 0px\; box-sizing: border-box\; background-color: transparent\; -webkit-tap-highlight-color: transparent\; touch-action: manipulation\; display: inline\; font-family: inherit\;" tabindex="0" target="_blank">https://www.exploretock.com/bos.../event/449006/tamale-night</a></span></div>\n</div>\n\n<div class="x11i5rnm xat24cr x1mh8g0r x1vvkbs xtlvy1s x126k92a" style="margin: 0.5em 0px 0px\; overflow-wrap: break-word\; white-space-collapse: preserve\; font-family: &quot\;Segoe UI Historic&quot\;\, &quot\;Segoe UI&quot\;\, Helvetica\, Arial\, sans-serif\; color: rgb(5\, 5\, 5)\; font-size: 15px\; background-color: rgb(255\, 255\, 255)\;">\n<div dir="auto" style="font-family: inherit\;">Come <span style="font-family: inherit\;"></span>to BOS Wine Garden to enjoy your Tamales and wine starting at 5:30pm or after.</div>\n</div>\n
LOCATION:BOS Wine 135 Ames Street Elk Rapids
UID:e.2409.40282
SEQUENCE:3
DTSTAMP:20260419T175603Z
URL:https://business.elkrapidschamber.org/events/details/tamales-at-bos-wine-40282
END:VEVENT

END:VCALENDAR
