BEGIN:VCALENDAR
VERSION:2.0
PRODID:-//ChamberMaster//Event Calendar 2.0//EN
METHOD:PUBLISH
X-PUBLISHED-TTL:P3D
REFRESH-INTERVAL:P3D
CALSCALE:GREGORIAN
BEGIN:VEVENT
DTSTART:20230615T210000Z
DTEND:20230615T230000Z
X-MICROSOFT-CDO-ALLDAYEVENT:FALSE
SUMMARY:Talkin' Trails at Townline Ciderworks
DESCRIPTION:TART Trails and Top of Michigan Trails are talkin' trails at Townline Ciderworks from 5:00 to 7:00 pm on Thursday\, June 15th. Join us for hors d' oeuvres\, cider and conversation focused on the Maple Bay to Elk Rapids segment of the Nakwema Trailway.
X-ALT-DESC;FMTTYPE=text/html:<span style="color: rgb(51\, 51\, 51)\; font-family: Arial\, &quot\;Helvetica Neue&quot\;\, Helvetica\, sans-serif\; font-size: 16px\; text-align: justify\; background-color: rgb(255\, 255\, 255)\;">TART Trails and Top of Michigan Trails are talkin&rsquo\; trails at Townline Ciderworks from 5:00 to 7:00 pm on Thursday\, June 15th. Join us for hors d&rsquo\; oeuvres\, cider and conversation focused on the Maple Bay to Elk Rapids segment of the Nakwema Trailway.</span>
LOCATION:Townline Ciderworks U.S. 31 Williamsburg
UID:e.2409.37690
SEQUENCE:3
DTSTAMP:20260420T022148Z
URL:https://business.elkrapidschamber.org/events/details/talkin-trails-at-townline-ciderworks-37690
END:VEVENT

END:VCALENDAR
