BEGIN:VCALENDAR
VERSION:2.0
PRODID:-//ChamberMaster//Event Calendar 2.0//EN
METHOD:PUBLISH
X-PUBLISHED-TTL:P3D
REFRESH-INTERVAL:P3D
CALSCALE:GREGORIAN
BEGIN:VEVENT
DTSTART:20240109T220000Z
DTEND:20240110T000000Z
X-MICROSOFT-CDO-ALLDAYEVENT:FALSE
SUMMARY:Taco Tuesdays at Sacred Heart Church
DESCRIPTION:Taco Tuesdays at Sacred Heart!\n\n \n\nGrab your friends and join us on Taco Tuesdays! Each week in January\, starting on January 9th\, from 5-7 pm in the parish hall\, we will be hosting a fun gathering that includes a delicious meal of either 3 chicken or beef tacos\, or 1 wet chicken or beef burrito meal\, complete with beans\, rice\, chips\, and salsa!\n\nMeals are available for dine-in or take-out.\n\n \n\n"We want to provide an affordable\, fun\, and delicious mid-week treat and opportunity for people to come together during an otherwise quiet time of year\," John Mischel\, Sacred Heart Outreach Committee member\, said. "Our chef\, Elaine Vasquez\, had the idea. She has a strong background in creating exquisite Mexican cuisine\,\n\nso it should be a great time!"\n\n \n\nDinners can be purchased at the door for $11. Cash\, credit cards\, and checks are accepted. All proceeds from ticket sales will go toward our capital campaign.
X-ALT-DESC;FMTTYPE=text/html:<p align="center" style="box-sizing: border-box\; margin: 0px\; padding: 0px\; color: rgb(64\, 63\, 66)\; font-family: Arial\, Verdana\, Helvetica\, sans-serif\; font-size: 12px\; background-color: rgb(255\, 255\, 255)\; text-align: center\;"><span style="box-sizing: border-box\; font-size: 26px\; color: rgb(87\, 10\, 20)\; font-family: Calibri\, Helvetica\, Arial\, sans-serif\; font-weight: bold\;">Taco Tuesdays at Sacred Heart!</span></p>\n\n<p align="center" style="box-sizing: border-box\; margin: 0px\; padding: 0px\; color: rgb(64\, 63\, 66)\; font-family: Arial\, Verdana\, Helvetica\, sans-serif\; font-size: 12px\; background-color: rgb(255\, 255\, 255)\; text-align: center\;">&nbsp\;</p>\n\n<p align="center" class="v1indent-0" style="box-sizing: border-box\; margin: 0px\; padding: 0px\; color: rgb(64\, 63\, 66)\; font-family: Arial\, Verdana\, Helvetica\, sans-serif\; font-size: 12px\; background-color: rgb(255\, 255\, 255)\; text-align: center\;"><span style="box-sizing: border-box\; font-size: 16px\; font-family: Calibri\, Helvetica\, Arial\, sans-serif\;">Grab your friends and join us on Taco Tuesdays!&nbsp\;</span><span style="box-sizing: border-box\; font-size: 16px\; font-family: Calibri\, Helvetica\, Arial\, sans-serif\; font-weight: bold\;">Each week in January\, starting on January 9th\, from 5-7 pm in the parish hall\, we will be hosting a fun gathering that includes a delicious&nbsp\;meal of either 3 chicken or beef tacos\, or 1 wet chicken or beef burrito meal\, complete with beans\, rice\, chips\, and salsa!</span></p>\n\n<p align="center" class="v1indent-0" style="box-sizing: border-box\; margin: 0px\; padding: 0px\; color: rgb(64\, 63\, 66)\; font-family: Arial\, Verdana\, Helvetica\, sans-serif\; font-size: 12px\; background-color: rgb(255\, 255\, 255)\; text-align: center\;"><span style="box-sizing: border-box\; font-size: 16px\; font-family: Calibri\, Helvetica\, Arial\, sans-serif\; font-weight: bold\;">Meals are available for dine-in or take-out.</span></p>\n\n<p align="center" class="v1indent-0" style="box-sizing: border-box\; margin: 0px\; padding: 0px\; color: rgb(64\, 63\, 66)\; font-family: Arial\, Verdana\, Helvetica\, sans-serif\; font-size: 12px\; background-color: rgb(255\, 255\, 255)\; text-align: center\;"><span style="box-sizing: border-box\; font-size: 16px\; font-family: Calibri\, Helvetica\, Arial\, sans-serif\; font-weight: bold\;">&#65279\;</span></p>\n\n<p align="center" class="v1indent-0" style="box-sizing: border-box\; margin: 0px\; padding: 0px\; color: rgb(64\, 63\, 66)\; font-family: Arial\, Verdana\, Helvetica\, sans-serif\; font-size: 12px\; background-color: rgb(255\, 255\, 255)\; text-align: center\;"><span style="box-sizing: border-box\; font-size: 16px\; font-family: Calibri\, Helvetica\, Arial\, sans-serif\;">&ldquo\;We want to provide an affordable\, fun\, and delicious mid-week treat and opportunity for people to come together during an otherwise quiet time of year\,&rdquo\; John Mischel\, Sacred Heart Outreach Committee member\, said. &ldquo\;Our chef\, Elaine Vasquez\, had the idea. She has a strong background in creating exquisite Mexican cuisine\,</span></p>\n\n<p align="center" class="v1indent-0" style="box-sizing: border-box\; margin: 0px\; padding: 0px\; color: rgb(64\, 63\, 66)\; font-family: Arial\, Verdana\, Helvetica\, sans-serif\; font-size: 12px\; background-color: rgb(255\, 255\, 255)\; text-align: center\;"><span style="box-sizing: border-box\; font-size: 16px\; font-family: Calibri\, Helvetica\, Arial\, sans-serif\;">so it should be a great time!&rdquo\;</span></p>\n\n<p align="center" class="v1indent-0" style="box-sizing: border-box\; margin: 0px\; padding: 0px\; color: rgb(64\, 63\, 66)\; font-family: Arial\, Verdana\, Helvetica\, sans-serif\; font-size: 12px\; background-color: rgb(255\, 255\, 255)\; text-align: center\;">&nbsp\;</p>\n\n<p align="center" class="v1indent-0" style="box-sizing: border-box\; margin: 0px\; padding: 0px\; color: rgb(64\, 63\, 66)\; font-family: Arial\, Verdana\, Helvetica\, sans-serif\; font-size: 12px\; background-color: rgb(255\, 255\, 255)\; text-align: center\;"><span style="box-sizing: border-box\; font-size: 16px\; font-family: Calibri\, Helvetica\, Arial\, sans-serif\; font-weight: bold\;">Dinners can be purchased at the door for $11. Cash\, credit cards\, and checks are accepted. All proceeds from ticket sales will go toward our capital campaign.&nbsp\;</span></p>\n
LOCATION:143 Charles St. Elk Rapids
UID:e.2409.41544
SEQUENCE:3
DTSTAMP:20260419T123059Z
URL:https://business.elkrapidschamber.org/events/details/taco-tuesdays-at-sacred-heart-church-41544
END:VEVENT

END:VCALENDAR
