BEGIN:VCALENDAR
VERSION:2.0
PRODID:-//ChamberMaster//Event Calendar 2.0//EN
METHOD:PUBLISH
X-PUBLISHED-TTL:P3D
REFRESH-INTERVAL:P3D
CALSCALE:GREGORIAN
BEGIN:VEVENT
DTSTART:20191208T180000Z
DTEND:20191208T203000Z
X-MICROSOFT-CDO-ALLDAYEVENT:FALSE
SUMMARY:TAAG Children's Celebration
DESCRIPTION:
X-ALT-DESC;FMTTYPE=text/html:
LOCATION:Alden Community Center
UID:e.2409.19188
SEQUENCE:3
DTSTAMP:20260419T140601Z
URL:https://business.elkrapidschamber.org/events/details/taag-children-s-celebration-19188
END:VEVENT

END:VCALENDAR
