BEGIN:VCALENDAR
VERSION:2.0
PRODID:-//ChamberMaster//Event Calendar 2.0//EN
METHOD:PUBLISH
X-PUBLISHED-TTL:P3D
REFRESH-INTERVAL:P3D
CALSCALE:GREGORIAN
BEGIN:VEVENT
DTSTART:20230906T210000Z
DTEND:20230906T230000Z
X-MICROSOFT-CDO-ALLDAYEVENT:FALSE
SUMMARY:Swiss Steak Dinner at Kewadin United Methodist Church
DESCRIPTION:Delicious Swiss steak dinner\n\nPlus\, Hot Fudge Cake & Ice Cream\n\nEat in or Take Out
X-ALT-DESC;FMTTYPE=text/html:Delicious Swiss steak dinner<br />\nPlus\, Hot Fudge Cake &amp\; Ice Cream<br />\nEat in or Take Out<br />\n&nbsp\;
LOCATION:7235 Cairn Hwy Kewadin 49648
UID:e.2409.38938
SEQUENCE:3
DTSTAMP:20260419T222718Z
URL:https://business.elkrapidschamber.org/events/details/swiss-steak-dinner-at-kewadin-united-methodist-church-38938
END:VEVENT

END:VCALENDAR
