BEGIN:VCALENDAR
VERSION:2.0
PRODID:-//ChamberMaster//Event Calendar 2.0//EN
METHOD:PUBLISH
X-PUBLISHED-TTL:P3D
REFRESH-INTERVAL:P3D
CALSCALE:GREGORIAN
BEGIN:VEVENT
DTSTART:20220513T150000Z
DTEND:20220513T153000Z
X-MICROSOFT-CDO-ALLDAYEVENT:FALSE
SUMMARY:Swim to You Ribbon Cutting & Grand Re-Opening
DESCRIPTION:
X-ALT-DESC;FMTTYPE=text/html:
LOCATION:
UID:e.2409.30226
SEQUENCE:3
DTSTAMP:20260420T203127Z
URL:https://business.elkrapidschamber.org/events/details/swim-to-you-ribbon-cutting-grand-re-opening-30226
END:VEVENT

END:VCALENDAR
