BEGIN:VCALENDAR
VERSION:2.0
PRODID:-//ChamberMaster//Event Calendar 2.0//EN
METHOD:PUBLISH
X-PUBLISHED-TTL:P3D
REFRESH-INTERVAL:P3D
CALSCALE:GREGORIAN
BEGIN:VEVENT
DTSTART:20190613T230000Z
DTEND:20190614T010000Z
X-MICROSOFT-CDO-ALLDAYEVENT:FALSE
SUMMARY:"Sustainable International Development"
DESCRIPTION:Special speaker Laura (Wonacott) Asiala\, Senior Fellow at PYXERA Global\, is passionate about the power of business to solve - or help solve - the world's most intransigent problems and she leads efforts to attract more participation of businesses to contribute to global\, sustainable development\, through their people and their work.\n\nEveryone is Welcome!
X-ALT-DESC;FMTTYPE=text/html:Special speaker Laura (Wonacott) Asiala\, Senior Fellow at PYXERA Global\, is passionate about the power of business to solve - or help solve - the world&#39\;s most intransigent problems and she leads efforts to attract more participation of businesses to contribute to global\, sustainable development\, through their people and their work.<br />\nEveryone is Welcome!
LOCATION:Presbyterian Church of Elk Rapids
UID:e.2409.20057
SEQUENCE:3
DTSTAMP:20260424T195222Z
URL:https://business.elkrapidschamber.org/events/details/sustainable-international-development-20057
END:VEVENT

END:VCALENDAR
