BEGIN:VCALENDAR
VERSION:2.0
PRODID:-//ChamberMaster//Event Calendar 2.0//EN
METHOD:PUBLISH
X-PUBLISHED-TTL:P3D
REFRESH-INTERVAL:P3D
CALSCALE:GREGORIAN
BEGIN:VEVENT
DTSTART:20200726T230000Z
DTEND:20200727T010000Z
X-MICROSOFT-CDO-ALLDAYEVENT:FALSE
SUMMARY:Sunset Concert Series @ the Harbor Pavilion
DESCRIPTION:Come join us at the harbor for our sunset concerts. Bring your chairs\, a snack\, and enjoy the music.\n\nEntertainment line-up:\n\n \n\nJuly 26: Barbosa Bros.  7-9 pm\n\nAugust 2:  Flylite Gemini  7-9 pm\n\nAugust 16\; Escaping Pavement 7-9 pm
X-ALT-DESC;FMTTYPE=text/html:<span style="color:#000000\;">Come join us at the harbor for our sunset concerts. Bring your chairs\, a snack\, and enjoy the music.<br />\nEntertainment line-up:</span><br />\n&nbsp\;<br />\n<span style="color:#000000\;">July 26: Barbosa Bros.&nbsp\; 7-9 pm<br />\nAugust 2:&nbsp\; Flylite Gemini&nbsp\; 7-9 pm<br />\nAugust 16\; Escaping Pavement 7-9 pm</span>
LOCATION:Grace Memorial Harbor Pavilion Cedar St Elk Rapids\, MI 49629
UID:e.2409.23806
SEQUENCE:3
DTSTAMP:20260422T074053Z
URL:https://business.elkrapidschamber.org/events/details/sunset-concert-series-the-harbor-pavilion-07-26-2020-23806
END:VEVENT

END:VCALENDAR
