BEGIN:VCALENDAR
VERSION:2.0
PRODID:-//ChamberMaster//Event Calendar 2.0//EN
METHOD:PUBLISH
X-PUBLISHED-TTL:P3D
REFRESH-INTERVAL:P3D
CALSCALE:GREGORIAN
BEGIN:VEVENT
DTSTART:20220714T170000Z
DTEND:20220714T183000Z
X-MICROSOFT-CDO-ALLDAYEVENT:FALSE
SUMMARY:Summer Silhouettes
DESCRIPTION:One of the nicest things about midsummer is the contrast between light and shade.  Arelene Westhoven\, a Grass River Natural Area naturalist\, will capture this using the bright colors of markers as a backdrop for interesting shadows.  Materials supplied. Get more information at grassriver.org. 6500 Alden Hwy\, Bellaire MI 49615.
X-ALT-DESC;FMTTYPE=text/html:<span style="color:black\;"><span style="font-size:12.0pt\;">One of the nicest things about midsummer is the contrast between light and shade.&nbsp\; Arelene Westhoven\, a Grass River Natural Area naturalist\, will capture this using the bright colors of markers as a backdrop for interesting shadows.&nbsp\; Materials supplied. </span></span><span style="background:white\;"><span style="color:#202020\;"><span style="font-size:12.0pt\;">Get more information at grassriver.org. 6500 Alden Hwy\, Bellaire MI 49615.</span></span></span><br />\n&nbsp\;
LOCATION:
UID:e.2409.30602
SEQUENCE:3
DTSTAMP:20260420T184647Z
URL:https://business.elkrapidschamber.org/events/details/summer-silhouettes-30602
END:VEVENT

END:VCALENDAR
