BEGIN:VCALENDAR
VERSION:2.0
PRODID:-//ChamberMaster//Event Calendar 2.0//EN
METHOD:PUBLISH
X-PUBLISHED-TTL:P3D
REFRESH-INTERVAL:P3D
CALSCALE:GREGORIAN
BEGIN:VEVENT
DTSTART:20200904T130000Z
DTEND:20200904T141000Z
X-MICROSOFT-CDO-ALLDAYEVENT:FALSE
SUMMARY:Summer Beach Yoga
DESCRIPTION:Wake up to a beautiful sunrise practice on the beach! Set your gaze on beautiful Lake Michigan\, listen to your heartbeat and expand your breath. You will leave this class recharged and ready for the day!\n\nJudith's yoga classes are a mix of calming and challenging. She brings creativity and fresh boldness with different sequences and asanas every day. Heart pumping poses and combinations mixed with periods of rest and slow flow.\n\nAt Memorial Park\, park your car down by the playground downtown Elk Rapids and walk toward the beach. You are sure to find us. Wear layers of clothes and bring a blanket\, towel and/or a mat if you like. See you there!
X-ALT-DESC;FMTTYPE=text/html:<div>Wake up to a beautiful sunrise practice on the beach! Set your gaze on beautiful Lake Michigan\, listen to your heartbeat and expand your breath. You will leave this class recharged and ready for the day!</div>\n\n<p>Judith&#39\;s yoga classes are a mix of calming and challenging. She brings creativity and fresh boldness with different sequences and asanas every day. Heart pumping poses and combinations mixed with periods of rest and slow flow.</p>\n\n<p>At Memorial Park\, park your car down by the playground downtown Elk Rapids and walk toward the beach. You are sure to find us. Wear layers of clothes and bring a blanket\, towel and/or a mat if you like. See you there!</p>\n
LOCATION:At Elk Rapids Memorial Park on River Street\, park your car down by the playground downtown Elk Rapids and walk toward the beach. You are sure to find us.
UID:e.2409.23835
SEQUENCE:3
DTSTAMP:20260422T043834Z
URL:https://business.elkrapidschamber.org/events/details/summer-beach-yoga-09-04-2020-23835
END:VEVENT

END:VCALENDAR
