BEGIN:VCALENDAR
VERSION:2.0
PRODID:-//ChamberMaster//Event Calendar 2.0//EN
METHOD:PUBLISH
X-PUBLISHED-TTL:P3D
REFRESH-INTERVAL:P3D
CALSCALE:GREGORIAN
BEGIN:VEVENT
DTSTART:20220611T193000Z
DTEND:20220611T213000Z
X-MICROSOFT-CDO-ALLDAYEVENT:FALSE
SUMMARY:Strawberry Social and Auction
DESCRIPTION:The Williamsburg United Methodist Church annually hosts a Strawberry Social and Silent Auction.  The Strawberry social will be Saturday\, June 11th from 3:30pm to 7:00pm.  This event is a drive-up and take-out service and by donation only.  There will optional outdoor seating for individuals who would like to enjoy with the group.  We will have have light music and yard games to enjoy.  Please join us!  Don't forget to purchase a ticket or two for our special live drawing at the event.  Ask any of our volunteers for more details!\n\n \n\nThe WUMC Auction begins Wednesday\, June 8th and will remain active to bidders until Wednesday\, June 15th at 10PM.  Fundraising from both events will benefit the ministries of the church\, as well as various community programs held throughout the year.
X-ALT-DESC;FMTTYPE=text/html:The Williamsburg United Methodist Church annually hosts a Strawberry Social and Silent Auction.&nbsp\; The Strawberry social will be Saturday\, June 11th from 3:30pm to 7:00pm.&nbsp\; This event is a drive-up and take-out service and by donation only.&nbsp\; There will optional outdoor seating for individuals who would like to enjoy with the group.&nbsp\; We will have have light music and yard games to enjoy.&nbsp\; Please join us!&nbsp\; Don&#39\;t forget to purchase a ticket or two for our special live drawing at the event.&nbsp\; Ask any of our volunteers for more details!<br />\n&nbsp\;<br />\nThe WUMC Auction begins Wednesday\, June 8th and will remain active to bidders until Wednesday\, June 15th at 10PM.&nbsp\; Fundraising from both events will benefit the ministries of the church\, as well as various community programs held throughout the year.
LOCATION:Williamsburg United Methodist Church
UID:e.2409.29705
SEQUENCE:3
DTSTAMP:20260420T202713Z
URL:https://business.elkrapidschamber.org/events/details/strawberry-social-and-auction-29705
END:VEVENT

END:VCALENDAR
