BEGIN:VCALENDAR
VERSION:2.0
PRODID:-//ChamberMaster//Event Calendar 2.0//EN
METHOD:PUBLISH
X-PUBLISHED-TTL:P3D
REFRESH-INTERVAL:P3D
CALSCALE:GREGORIAN
BEGIN:VEVENT
DTSTART:20191207T153000Z
DTEND:20191207T163000Z
X-MICROSOFT-CDO-ALLDAYEVENT:FALSE
SUMMARY:Story Time with Santa @ Pine Hill
DESCRIPTION:Santa and author of The Bird in Santa's Beard will be doing story time Saturday\, Dec. 7th at 10:30\, 12:00 1:30. Following story time the children will have individual time with Santa\, make a craft\, and have a snack. Parents bring your camera for photos. We are asking for a food pantry donation to attend this event.\n\nSpace is limited so please register at 231-599-2824
X-ALT-DESC;FMTTYPE=text/html:<div style="color: rgb(255\, 255\, 255)\; font-family: Verdana\, Geneva\, sans-serif\; font-size: 16px\; background-color: rgb(211\, 9\, 28)\;"><span style="font-size: 14px\;">Santa and author of The Bird in Santa&#39\;s Beard will be doing story time Saturday\, Dec. 7th at 10:30\, 12:00 1:30. Following story time the children will have individual time with Santa\, make a craft\, and have a snack. Parents bring your camera for photos. We are asking for a food pantry donation to attend this event.</span></div>\n\n<div style="color: rgb(255\, 255\, 255)\; font-family: Verdana\, Geneva\, sans-serif\; font-size: 16px\; background-color: rgb(211\, 9\, 28)\;"><span style="font-size: 14px\;">Space is limited so please register at 231-599-2824</span></div>\n
LOCATION:Pine Hill Nursery Torch Lake Location
UID:e.2409.22022
SEQUENCE:3
DTSTAMP:20260419T141236Z
URL:https://business.elkrapidschamber.org/events/details/story-time-with-santa-pine-hill-22022
END:VEVENT

END:VCALENDAR
