BEGIN:VCALENDAR
VERSION:2.0
PRODID:-//ChamberMaster//Event Calendar 2.0//EN
METHOD:PUBLISH
X-PUBLISHED-TTL:P3D
REFRESH-INTERVAL:P3D
CALSCALE:GREGORIAN
BEGIN:VEVENT
DTSTART:20191207T160000Z
DTEND:20191207T190000Z
X-MICROSOFT-CDO-ALLDAYEVENT:FALSE
SUMMARY:Story Time with Santa
DESCRIPTION:Story Time with Santa is an opportunity for your child to spend time with Ole St. Nick. Story Time includes a story read by Santa\, a craft activity\, cocoa and cookies\, plus a special gift and professional photo with Santa.\n\nSpace is limited to 20 children per session so save your child's spot early. Tickets must be purchased in advance online. Train Wonderland tickets sold separately.\n\nStory Time sessions\n\nDecember 7\, 11am & 1pm\n\nDecember 8\, 11am & 1pm\n\nDecember 14\, 11am & 1pm\n\nDecember 15\, 11am & 1pm
X-ALT-DESC;FMTTYPE=text/html:<p style="text-align:left">Story Time with Santa is an opportunity for your child to spend time with Ole St. Nick. Story Time includes a story read by Santa\, a craft activity\, cocoa and cookies\, plus a special gift and professional photo with Santa.</p>\n\n<p style="text-align:left">Space is limited to 20 children per session so save your child&rsquo\;s spot early. Tickets must be purchased in advance online. Train Wonderland tickets sold separately.</p>\n\n<p style="text-align:left"><strong>Story Time sessions</strong></p>\n\n<p style="text-align:left">December 7\, 11am &amp\; 1pm<br />\nDecember 8\, 11am &amp\; 1pm<br />\nDecember 14\, 11am &amp\; 1pm<br />\nDecember 15\, 11am &amp\; 1pm</p>\n
LOCATION:Castle Farms 5052 M-66 N Charlevoix\, MI 49720
UID:e.2409.19202
SEQUENCE:3
DTSTAMP:20260419T140446Z
URL:https://business.elkrapidschamber.org/events/details/story-time-with-santa-19202
END:VEVENT

END:VCALENDAR
