BEGIN:VCALENDAR
VERSION:2.0
PRODID:-//ChamberMaster//Event Calendar 2.0//EN
METHOD:PUBLISH
X-PUBLISHED-TTL:P3D
REFRESH-INTERVAL:P3D
CALSCALE:GREGORIAN
BEGIN:VEVENT
DTSTART:20240126T153000Z
DTEND:20240126T163000Z
X-MICROSOFT-CDO-ALLDAYEVENT:FALSE
SUMMARY:Story Time @ the Elk Rapids Library
DESCRIPTION:for ages 0-5
X-ALT-DESC;FMTTYPE=text/html:for ages 0-5
LOCATION:Elk Rapids District Library
UID:e.2409.41898
SEQUENCE:3
DTSTAMP:20260419T122723Z
URL:https://business.elkrapidschamber.org/events/details/story-time-the-elk-rapids-library-01-26-2024-41898
END:VEVENT

END:VCALENDAR
