BEGIN:VCALENDAR
VERSION:2.0
PRODID:-//ChamberMaster//Event Calendar 2.0//EN
METHOD:PUBLISH
X-PUBLISHED-TTL:P3D
REFRESH-INTERVAL:P3D
CALSCALE:GREGORIAN
BEGIN:VEVENT
DTSTART:20240112T153000Z
DTEND:20240112T163000Z
X-MICROSOFT-CDO-ALLDAYEVENT:FALSE
SUMMARY:Story Time-Destination Art & Connection
DESCRIPTION:for ages 0-5
X-ALT-DESC;FMTTYPE=text/html:for ages 0-5
LOCATION:Art and Connection
UID:e.2409.41896
SEQUENCE:3
DTSTAMP:20260419T133207Z
URL:https://business.elkrapidschamber.org/events/details/story-time-destination-art-connection-41896
END:VEVENT

END:VCALENDAR
