BEGIN:VCALENDAR
VERSION:2.0
PRODID:-//ChamberMaster//Event Calendar 2.0//EN
METHOD:PUBLISH
X-PUBLISHED-TTL:P3D
REFRESH-INTERVAL:P3D
CALSCALE:GREGORIAN
BEGIN:VEVENT
DTSTART:20190821T190000Z
DTEND:20190821T210000Z
X-MICROSOFT-CDO-ALLDAYEVENT:FALSE
SUMMARY:Stories in Stone - Ancient Tools at Samels Farm
DESCRIPTION:Stories in Stone - Ancient Tools
X-ALT-DESC;FMTTYPE=text/html:Stories in Stone - Ancient Tools
LOCATION:Samels Farm 8298 Skegemog Point Rd. Williamsburg
UID:e.2409.19092
SEQUENCE:3
DTSTAMP:20260423T180142Z
URL:https://business.elkrapidschamber.org/events/details/stories-in-stone-ancient-tools-at-samels-farm-19092
END:VEVENT

END:VCALENDAR
