BEGIN:VCALENDAR
VERSION:2.0
PRODID:-//ChamberMaster//Event Calendar 2.0//EN
METHOD:PUBLISH
X-PUBLISHED-TTL:P3D
REFRESH-INTERVAL:P3D
CALSCALE:GREGORIAN
BEGIN:VEVENT
DTSTART:20190425T230000Z
DTEND:20190426T010000Z
X-MICROSOFT-CDO-ALLDAYEVENT:FALSE
SUMMARY:Stolen Silver
DESCRIPTION:Stolen Silver (Dan Myers\, Levi Britton\, Jonny Tornga\, Chris Sterr)\n\nCocktail hour and doors open at 6:00. Buy tickets at Traverse City Guitar Co.\, The Corner Druggist in Elk Rapids\, and AMVETS Post 114. Proceeds go to support Veterans through AMVETS Post 114.
X-ALT-DESC;FMTTYPE=text/html:Stolen Silver (Dan Myers\, Levi Britton\, Jonny Tornga\, Chris Sterr)<br />\nCocktail hour and doors open at 6:00. Buy tickets at Traverse City Guitar Co.\, The Corner Druggist in Elk Rapids\, and AMVETS Post 114. Proceeds go to support Veterans through AMVETS Post 114.
LOCATION:Historic Elk Rapids Town Hall
UID:e.2409.18606
SEQUENCE:3
DTSTAMP:20260426T014944Z
URL:https://business.elkrapidschamber.org/events/details/stolen-silver-18606
END:VEVENT

END:VCALENDAR
