BEGIN:VCALENDAR
VERSION:2.0
PRODID:-//ChamberMaster//Event Calendar 2.0//EN
METHOD:PUBLISH
X-PUBLISHED-TTL:P3D
REFRESH-INTERVAL:P3D
CALSCALE:GREGORIAN
BEGIN:VEVENT
DTSTART:20230630T124500Z
DTEND:20230630T161500Z
X-MICROSOFT-CDO-ALLDAYEVENT:FALSE
SUMMARY:STELLAR Vacation Bible School
DESCRIPTION:Ages 3 through 5th grade\n\nThere will be music\, games\, crafts\, snacks\, and so much more!  Families are invited to join the closing time starting at noon on Friday to watch the kids sing their songs and share stories from their week.  Then\, enjoy a free picnic lunch afterward.
X-ALT-DESC;FMTTYPE=text/html:Ages 3 through 5th grade<br />\nThere will be music\, games\, crafts\, snacks\, and so much more!&nbsp\; Families are invited to join the closing time starting at noon on Friday to watch the kids sing their songs and share stories from their week.&nbsp\; Then\, enjoy a free picnic lunch afterward.
LOCATION:First Presbyterian Church of Elk Rapids
UID:e.2409.38215
SEQUENCE:3
DTSTAMP:20260420T022148Z
URL:https://business.elkrapidschamber.org/events/details/stellar-vacation-bible-school-06-30-2023-38215
END:VEVENT

END:VCALENDAR
