BEGIN:VCALENDAR
VERSION:2.0
PRODID:-//ChamberMaster//Event Calendar 2.0//EN
METHOD:PUBLISH
X-PUBLISHED-TTL:P3D
REFRESH-INTERVAL:P3D
CALSCALE:GREGORIAN
BEGIN:VEVENT
DTSTART:20171020T130000Z
DTEND:20171022T220000Z
X-MICROSOFT-CDO-ALLDAYEVENT:FALSE
SUMMARY:Squash-O-Rama
DESCRIPTION:6th Annual Squash O Rama! We bake every variety of squash we grow and put it out for you to sample.  Then our customers vote on the top squash of year.\n\nWeekly guess the weight & win a big pumpkin
X-ALT-DESC;FMTTYPE=text/html:6th&nbsp\;Annual Squash O Rama! We bake every variety of squash we grow and put it out for you to sample.&nbsp\; Then our customers vote on the top squash of year.<br />\nWeekly guess the weight &amp\; win a big pumpkin
LOCATION:King Orchards 986 US 31 Kewadin
UID:e.2409.12285
SEQUENCE:3
DTSTAMP:20260419T142304Z
URL:https://business.elkrapidschamber.org/events/details/squash-o-rama-12285
END:VEVENT

END:VCALENDAR
