BEGIN:VCALENDAR
VERSION:2.0
PRODID:-//ChamberMaster//Event Calendar 2.0//EN
METHOD:PUBLISH
X-PUBLISHED-TTL:P3D
REFRESH-INTERVAL:P3D
CALSCALE:GREGORIAN
BEGIN:VEVENT
DTSTART:20190511T120000Z
DTEND:20190511T160000Z
X-MICROSOFT-CDO-ALLDAYEVENT:FALSE
SUMMARY:Spring Stream Monitoring
DESCRIPTION:Our biannual stream monitoring is a great way to get involved in collecting data for GRNA. We need two groups of volunteers for the morning: one to collect samples in the stream and one to pick through the samples at the center. All abilities (and ages) welcome. Contact james@grassriver.org for more info. Grass River Natural Area is located at 6500 Alden Highway\, Bellaire MI.
X-ALT-DESC;FMTTYPE=text/html:<span style="background-attachment: scroll\; background-clip: border-box\; background-color: white\; background-image: none\; background-origin: padding-box\; background-position-x: 0%\; background-position-y: 0%\; background-repeat: repeat\; background-size: auto\; color: black\; font-family: Helvetica Neue\,Helvetica\,Arial\,sans-serif\; font-size: 12pt\; font-style: normal\; font-variant: normal\; font-weight: 400\; letter-spacing: normal\; orphans: 2\; text-align: left\; text-decoration: none\; text-indent: 0px\; text-transform: none\; -webkit-text-stroke-width: 0px\; white-space: normal\; word-spacing: 0px\;">Our biannual stream monitoring is a great way to get involved in collecting data for GRNA. </span><span style="background-attachment: scroll\; background-clip: border-box\; background-color: white\; background-image: none\; background-origin: padding-box\; background-position-x: 0%\; background-position-y: 0%\; background-repeat: repeat\; background-size: auto\; color: black\; font-family: Helvetica Neue\,Helvetica\,Arial\,sans-serif\; font-size: 12pt\; font-style: normal\; font-variant: normal\; font-weight: 400\; letter-spacing: normal\; orphans: 2\; text-align: left\; text-decoration: none\; text-indent: 0px\; text-transform: none\; -webkit-text-stroke-width: 0px\; white-space: normal\; word-spacing: 0px\;">We </span><span style="background-attachment: scroll\; background-clip: border-box\; background-color: white\; background-image: none\; background-origin: padding-box\; background-position-x: 0%\; background-position-y: 0%\; background-repeat: repeat\; background-size: auto\; color: black\; font-family: Helvetica Neue\,Helvetica\,Arial\,sans-serif\; font-size: 12pt\; font-style: normal\; font-variant: normal\; font-weight: 400\; letter-spacing: normal\; orphans: 2\; text-align: left\; text-decoration: none\; text-indent: 0px\; text-transform: none\; -webkit-text-stroke-width: 0px\; white-space: normal\; word-spacing: 0px\;">need two groups of volunteers for the morning: one to collect samples in the stream and one to pick through the samples at the center. All abilities (and ages) welcome. Contact james@grassriver.org for more info.</span><span style="background-attachment: scroll\; background-clip: border-box\; background-color: white\; background-image: none\; background-origin: padding-box\; background-position-x: 0%\; background-position-y: 0%\; background-repeat: repeat\; background-size: auto\; color: black\; font-family: Helvetica Neue\,Helvetica\,Arial\,sans-serif\; font-size: 12pt\; font-style: normal\; font-variant: normal\; font-weight: 400\; letter-spacing: normal\; orphans: 2\; text-align: left\; text-decoration: none\; text-indent: 0px\; text-transform: none\; -webkit-text-stroke-width: 0px\; white-space: normal\; word-spacing: 0px\;"> </span><span style="color: rgb(29\, 34\, 40)\; font-family: Helvetica Neue\,Helvetica\,Arial\,sans-serif\; font-size: 12pt\; font-style: normal\; font-variant: normal\; font-weight: 400\; letter-spacing: normal\; orphans: 2\; text-align: left\; text-decoration: none\; text-indent: 0px\; text-transform: none\; -webkit-text-stroke-width: 0px\; white-space: normal\; word-spacing: 0px\;">Grass River Natural Area is located at 6500 Alden Highway\, Bellaire MI.</span>
LOCATION:Grass River Natural Area
UID:e.2409.19128
SEQUENCE:3
DTSTAMP:20260425T115258Z
URL:https://business.elkrapidschamber.org/events/details/spring-stream-monitoring-19128
END:VEVENT

END:VCALENDAR
