BEGIN:VCALENDAR
VERSION:2.0
PRODID:-//ChamberMaster//Event Calendar 2.0//EN
METHOD:PUBLISH
X-PUBLISHED-TTL:P3D
REFRESH-INTERVAL:P3D
CALSCALE:GREGORIAN
BEGIN:VEVENT
DTSTART:20230318T200000Z
DTEND:20230319T000000Z
X-MICROSOFT-CDO-ALLDAYEVENT:FALSE
SUMMARY:Spring Preview Tiny Traveling Boutique at BOS Wine
DESCRIPTION:Join us Saturday\, March 18th\, for the Tiny Traveling Boutique Spring Preview Pop-Up at BOS Wine Garden. We are excited to collaborate once again for this fun event. Tawny has carefully curated spring pieces and styles specifically for this Spring Preview event.\n\nCome sip some BOS wine\, shop\, and support TWO of your favorite Ames Street businesses here in Elk Rapids! We hope to see you there. Cheers!
X-ALT-DESC;FMTTYPE=text/html:<p style="margin: 0px\; padding: 0px\; font-family: Arial\, Verdana\, Helvetica\, sans-serif\; font-size: 12px\; white-space: pre-wrap\; background-color: rgb(233\, 228\, 228)\;"><span style="font-size: 14px\;">Join us Saturday\, March 18th\, for the&nbsp\;</span><a href="https://u2055856.ct.sendgrid.net/ls/click?upn=lkVIWMU5h-2BDWaQlKZsLI1bVfL90izDtHrTZ-2FFQG9QmXpBMUGn6vezDYEStvgS3LgE1izLRcB8NS-2BquO5hFzDq97TX2GLlRWvmdpz1Or-2BUnoZ8fqtYx8bMYq48mUfAz-2FGQ-2BLkYn1TR7a-2FfvVEQaSb0dUU4wmiJ2nRjg5m0jm9XGilTRlkAw2Zol2iI55Gr6kbSlmOFSxf2sHims7-2BsGV-2FaRJ4-2BxyKV-2BsOtGajsXh08Hpq-2FaxUMUmSQwq2vbrfaNfdNklWqkM7SKbZj-2F2vsEWLtj0nuawPt8gUXZ2rhvKlhztfLaa4lSzAIWIqIy87Ar1p1TUfhevi46EPVkCZ42xroZQ2CF3xJYBRLLif2L39zVM-3DXQgc_xAtMGaMkWf5emRe4bUHbNuTS2fuXcTQCeleXaWLQAGXH6WsoljrbCV5KeHW5zN6tSh-2BlzpiNqhVKu4k5-2BBt1EQZdbpMXLuxky7WFclMsSk-2Fk3i32wl6Uss4qtHDOvgvx7PQNDiMBV2EsPtT9E81WNc8Bk6EGA0et-2BzSVU65cU6J2LqPpCJgBO8dK9ytnvjPQFqu-2BixgrC-2FJa47imyM-2FqcObPUJU-2FgChhPLN0InPOpbvgN7feyNOr6GOPF5REA7KHrVJ8kNqKzGUIU-2FhaenabAhAswWA6hNW7-2BxBGGYpnzhoH8nlyjvqXCSH2LrtpSkkEkKD0af4LSsVSda-2B4ZRlxzIwhI7C1em6C3nk9zMYYn2D2aAdUFBokbWPI4LQKf7tzMJnY7oVJ81MQQa6FC1C-2F7qb18ho6lv-2BPdmqbBEoPlCIg5MrwS8VycOF6XZ9kkTDbjp30ZSPALDQjvyug0pxbCQ-3D-3D" style="text-decoration-line: none\; color: rgb(255\, 102\, 0)\; font-size: 14px\;" target="_blank">Tiny Traveling Boutique</a><span style="font-size: 14px\;">&nbsp\;Spring Preview Pop-Up&nbsp\;at BOS Wine Garden.&nbsp\;We are excited to collaborate once again for this fun event. Tawny has carefully curated spring pieces and styles specifically for this Spring Preview event.</span></p>\n\n<p style="margin: 0px\; padding: 0px\; font-family: Arial\, Verdana\, Helvetica\, sans-serif\; font-size: 12px\; white-space: pre-wrap\; background-color: rgb(233\, 228\, 228)\;"><span style="font-size: 14px\;">Come sip some BOS wine\, shop\, and support TWO of your favorite Ames Street businesses here in Elk Rapids! We hope to see you there. Cheers!&nbsp\;</span></p>\n
LOCATION:135 Ames St\, Elk Rapids\, MI 49629
UID:e.2409.35386
SEQUENCE:3
DTSTAMP:20260420T070001Z
URL:https://business.elkrapidschamber.org/events/details/spring-preview-tiny-traveling-boutique-at-bos-wine-35386
END:VEVENT

END:VCALENDAR
