BEGIN:VCALENDAR
VERSION:2.0
PRODID:-//ChamberMaster//Event Calendar 2.0//EN
METHOD:PUBLISH
X-PUBLISHED-TTL:P3D
REFRESH-INTERVAL:P3D
CALSCALE:GREGORIAN
BEGIN:VEVENT
DTSTART:20260423T220000Z
DTEND:20260424T000000Z
X-MICROSOFT-CDO-ALLDAYEVENT:FALSE
SUMMARY:Special Village Council Meeting
DESCRIPTION:There will be a SPECIAL VILLAGE COUNCIL MEETING\, held on Thursday\, April 23\, 2026\, at the Government Center\, at 6:00 pm located at 315 Bridge St.\n\nThe meeting will include a discussion with the Department of Natural Resources Waterways.
X-ALT-DESC;FMTTYPE=text/html:<div dir="auto" style="font-family: &quot\;Segoe UI Historic&quot\;\, &quot\;Segoe UI&quot\;\, Helvetica\, Arial\, sans-serif\; color: rgb(8\, 8\, 9)\; font-size: 15px\; white-space: pre-wrap\; background-color: rgb(255\, 255\, 255)\;">There will be a SPECIAL VILLAGE COUNCIL MEETING\, held on Thursday\, April 23\, 2026\, at the Government Center\, at 6:00 pm located at 315 Bridge St.</div>\n\n<div dir="auto" style="font-family: &quot\;Segoe UI Historic&quot\;\, &quot\;Segoe UI&quot\;\, Helvetica\, Arial\, sans-serif\; color: rgb(8\, 8\, 9)\; font-size: 15px\; white-space: pre-wrap\; background-color: rgb(255\, 255\, 255)\;">The meeting will include a discussion with the Department of Natural Resources Waterways.</div>\n
LOCATION:
UID:e.2409.52749
SEQUENCE:3
DTSTAMP:20260423T084025Z
URL:https://business.elkrapidschamber.org/events/details/special-village-council-meeting-52749
END:VEVENT

END:VCALENDAR
