BEGIN:VCALENDAR
VERSION:2.0
PRODID:-//ChamberMaster//Event Calendar 2.0//EN
METHOD:PUBLISH
X-PUBLISHED-TTL:P3D
REFRESH-INTERVAL:P3D
CALSCALE:GREGORIAN
BEGIN:VEVENT
DTSTART:20190914T200000Z
DTEND:20190914T230000Z
X-MICROSOFT-CDO-ALLDAYEVENT:FALSE
SUMMARY:Spaghetti Dinner
DESCRIPTION:Williamsburg United Methodist Church will be hosting their Annual Spaghetti Dinner with Silent Auction & Door Prizes in support of the Whitewater Township Fire and Ambulance Services.
X-ALT-DESC;FMTTYPE=text/html:<div class="gmail_default" style="font-variant: normal\; font-weight: normal\; font-size: large\; line-height: normal\; font-family: monospace\, monospace\; color: rgb(19\, 79\, 92)\; text-transform: none\; text-indent: 0px\; letter-spacing: normal\; word-spacing: 0px\; white-space: normal\; widows: 1\; font-stretch: normal\; background-color: rgb(255\, 255\, 255)\; -webkit-text-stroke-width: 0px\;"><span style="font-size: 12px\;"><span style="font-family: verdana\;">Williamsburg United Methodist Church will be hosting their Annual Spaghetti Dinner with Silent Auction &amp\; Door Prizes in support of the Whitewater Township Fire and Ambulance Services.</span></span></div>\n
LOCATION:5750 Williamsburg Rd Williamsburg\, MI Williamsburg United Methodist Church is located one block south of M-72 at Elk Lake Rd/Williamsburg Rd in Williamsburg.
UID:e.2409.21808
SEQUENCE:3
DTSTAMP:20260423T000608Z
URL:https://business.elkrapidschamber.org/events/details/spaghetti-dinner-21808
END:VEVENT

END:VCALENDAR
