BEGIN:VCALENDAR
VERSION:2.0
PRODID:-//ChamberMaster//Event Calendar 2.0//EN
METHOD:PUBLISH
X-PUBLISHED-TTL:P3D
REFRESH-INTERVAL:P3D
CALSCALE:GREGORIAN
BEGIN:VEVENT
DTSTART:20190601T143000Z
DTEND:20190601T183000Z
X-MICROSOFT-CDO-ALLDAYEVENT:FALSE
SUMMARY:Space Science & Technologies NMC Career Exploration
DESCRIPTION:The Space Science and Technologies Career Explorers Day is a unique combination of attending the last portion of the Michigan Space Forum at Hagerty Center followed by a related hands-on session across the hall on the NMC Great Lakes Campus. Students will join the conference to watch a panel of young space scientists and engineers share their research and projects\, followed by an astronaut talk about the future of space travel.
X-ALT-DESC;FMTTYPE=text/html:The Space Science and Technologies Career Explorers Day is a unique combination of attending the last portion of the Michigan Space Forum at Hagerty Center followed by a related hands-on session across the hall on the NMC Great Lakes Campus. Students will join the conference to watch a panel of young space scientists and engineers share their research and projects\, followed by an astronaut talk about the future of space travel.
LOCATION:Hagerty Center and NMC Great Lakes Campus Room 112
UID:e.2409.18522
SEQUENCE:3
DTSTAMP:20260425T003928Z
URL:https://business.elkrapidschamber.org/events/details/space-science-technologies-nmc-career-exploration-18522
END:VEVENT

END:VCALENDAR
