BEGIN:VCALENDAR
VERSION:2.0
PRODID:-//ChamberMaster//Event Calendar 2.0//EN
METHOD:PUBLISH
X-PUBLISHED-TTL:P3D
REFRESH-INTERVAL:P3D
CALSCALE:GREGORIAN
BEGIN:VEVENT
DTSTART:20230202T233000Z
DTEND:20230203T010000Z
X-MICROSOFT-CDO-ALLDAYEVENT:FALSE
SUMMARY:Sound Journey with Rebecca
DESCRIPTION:Think of it as an experience where sound can be used to transport you to a dream-like state of vibrational healing.  \n\nThis class sold out within hours when first offered. We want everyone to have an opportunity to experience this amazing opportunity.
X-ALT-DESC;FMTTYPE=text/html:<p style="margin: 0px\; padding: 0px\; color: rgb(123\, 110\, 101)\; font-family: Arial\, Verdana\, Helvetica\, sans-serif\; font-size: 12px\; white-space: pre-wrap\; background-color: rgb(206\, 216\, 238)\;"><span style="font-size: 14px\; color: rgb(0\, 0\, 0)\;">Think of it as an experience where sound can be used to transport you to a dream-like state of vibrational healing.&#8288\; </span></p>\n\n<p style="margin: 0px\; padding: 0px\; color: rgb(123\, 110\, 101)\; font-family: Arial\, Verdana\, Helvetica\, sans-serif\; font-size: 12px\; white-space: pre-wrap\; background-color: rgb(206\, 216\, 238)\;"><span style="font-size: 14px\; color: rgb(0\, 0\, 0)\;">This class sold out within hours when first offered. We want everyone to have an opportunity to experience this amazing opportunity.</span></p>\n
LOCATION:Elk Rapids Yoga Flow 212 River Street Elk Rapids\, MI 49629
UID:e.2409.35365
SEQUENCE:3
DTSTAMP:20260420T070624Z
URL:https://business.elkrapidschamber.org/events/details/sound-journey-with-rebecca-35365
END:VEVENT

END:VCALENDAR
