BEGIN:VCALENDAR
VERSION:2.0
PRODID:-//ChamberMaster//Event Calendar 2.0//EN
METHOD:PUBLISH
X-PUBLISHED-TTL:P3D
REFRESH-INTERVAL:P3D
CALSCALE:GREGORIAN
BEGIN:VEVENT
DTSTART:20190613T223000Z
DTEND:20190614T003000Z
X-MICROSOFT-CDO-ALLDAYEVENT:FALSE
SUMMARY:Social Security Workshop at NCMC
DESCRIPTION:Social security is more complicated than ever before with 500 filing options. It's a lot different now than it was for our parents and grandparents.\n\n \n\nYou only have one chance to get it right!!\n\nFor most it's either their main or second source of income. Timing is everything!! You don't want to make the mistake of drawing too early\, unless you have no choice. Everyone has a different situation. We work with this every day and are very good at it.\n\nWe see major mistakes made all the time\, because people didn't get the right help. If you don't know the rules first\, how do you expect to win at the game of social security. Proper planning is more important than ever in today's world....... Continue Reading
X-ALT-DESC;FMTTYPE=text/html:<div style="font-family: Arial\, Verdana\, Helvetica\, sans-serif\; font-size: 14px\; background-color: rgb(252\, 250\, 202)\;"><span style="font-size: 12px\; font-family: Helvetica\, Arial\, sans-serif\; font-weight: bold\;">Social security is more complicated than ever before with 500 filing options. It&rsquo\;s a lot different now than it was for our parents and grandparents.</span></div>\n\n<div style="font-family: Arial\, Verdana\, Helvetica\, sans-serif\; font-size: 14px\; background-color: rgb(252\, 250\, 202)\;">&nbsp\;</div>\n\n<div style="font-family: Arial\, Verdana\, Helvetica\, sans-serif\; font-size: 14px\; background-color: rgb(252\, 250\, 202)\;"><span style="font-size: 12px\; font-family: Helvetica\, Arial\, sans-serif\; font-weight: bold\;">You only have one chance to get it right!!</span></div>\n\n<div style="font-family: Arial\, Verdana\, Helvetica\, sans-serif\; font-size: 14px\; background-color: rgb(252\, 250\, 202)\;"><span style="font-size: 12px\; font-family: Helvetica\, Arial\, sans-serif\; font-weight: bold\;">For most it&rsquo\;s either their main or second source of income. Timing is everything!! You don&rsquo\;t want to make the mistake of drawing too early\, unless you have no choice. Everyone has a different situation. We work with this every day and are very good at it.</span></div>\n\n<div style="font-family: Arial\, Verdana\, Helvetica\, sans-serif\; font-size: 14px\; background-color: rgb(252\, 250\, 202)\;"><span style="font-size: 12px\; font-family: Helvetica\, Arial\, sans-serif\; font-weight: bold\;">We see major mistakes made all the time\, because people didn&rsquo\;t get the right help. If you don&rsquo\;t know the rules first\, how do you expect to win at the game of social security. Proper planning is more important than ever in today&rsquo\;s world.......</span><span style="font-size: 12px\; color: rgb(29\, 33\, 41)\; font-family: Helvetica\, Arial\, sans-serif\; font-weight: bold\;">&nbsp\;</span><a href="http://r20.rs6.net/tn.jsp?f=001wF_s0fNdd4OZQGHRmtjJmXHQG7VrJRYpxWKkbCEwYNcKoiBujHi4y3TA86GHwQy0PIJ2UhiplFUIeX4_EMl604DD-3fSVti1G8GdzMz6V5GUc7JrJnVOXbdkf_sPVhc3rkugSrG63nF3Gt_MMc6TtxhSJG-f63azsXGgF91p2Goy5lpvTzUBiA==&amp\;c=VagieL2u1S0f4GzcBtS7jbW3aU--QUB2TCI43QT8keyJwmpf3B5WVQ==&amp\;ch=YEs6rH-jVpjK_shgegbFrq1RQ3nH8dtNluQEt4cnij5CGQj5Hz8Xdw==" rel="nofollow" style="color: rgb(41\, 75\, 147)\; font-size: 12px\; font-family: Helvetica\, Arial\, sans-serif\; font-weight: bold\;" target="_blank">Continue Reading</a></div>\n
LOCATION:NCMC
UID:e.2409.20067
SEQUENCE:3
DTSTAMP:20260424T223434Z
URL:https://business.elkrapidschamber.org/events/details/social-security-workshop-at-ncmc-20067
END:VEVENT

END:VCALENDAR
