BEGIN:VCALENDAR
VERSION:2.0
PRODID:-//ChamberMaster//Event Calendar 2.0//EN
METHOD:PUBLISH
X-PUBLISHED-TTL:P3D
REFRESH-INTERVAL:P3D
CALSCALE:GREGORIAN
BEGIN:VEVENT
DTSTART:20191219T220000Z
DTEND:20191220T010000Z
X-MICROSOFT-CDO-ALLDAYEVENT:FALSE
SUMMARY:Sip & Support for the Library at Cellar 152
DESCRIPTION:During Ladies Night on River Street\, The Friends of the Elk Rapids Library will be hosting Sip & Support at Cellar 152. The Cellar donate proceeds from the sale of all drinks and small plates to the Friends to be used for the Library.
X-ALT-DESC;FMTTYPE=text/html:<span style="color: rgb(0\, 0\, 0)\; font-family: Helvetica\, Arial\, sans-serif\; font-size: 14px\; font-style: normal\; font-variant-ligatures: normal\; font-variant-caps: normal\; font-weight: 400\; letter-spacing: normal\; orphans: 2\; text-align: left\; text-indent: 0px\; text-transform: none\; white-space: normal\; widows: 2\; word-spacing: 0px\; -webkit-text-stroke-width: 0px\; background-color: rgb(255\, 255\, 255)\; text-decoration-style: initial\; text-decoration-color: initial\; display: inline !important\; float: none\;">During Ladies Night on River Street\, The Friends of the Elk Rapids Library will be hosting Sip &amp\; Support at Cellar 152. The Cellar donate proceeds from the sale of all drinks and small plates to the Friends to be used for the Library.</span>
LOCATION:Cellar 152 Pub & Provisions 152 River St. Elk Rapids
UID:e.2409.22284
SEQUENCE:3
DTSTAMP:20260419T140317Z
URL:https://business.elkrapidschamber.org/events/details/sip-support-for-the-library-at-cellar-152-22284
END:VEVENT

END:VCALENDAR
