BEGIN:VCALENDAR
VERSION:2.0
PRODID:-//ChamberMaster//Event Calendar 2.0//EN
METHOD:PUBLISH
X-PUBLISHED-TTL:P3D
REFRESH-INTERVAL:P3D
CALSCALE:GREGORIAN
BEGIN:VEVENT
DTSTART:20231214T230000Z
DTEND:20231215T010000Z
X-MICROSOFT-CDO-ALLDAYEVENT:FALSE
SUMMARY:Sip & Support for the Friends of the ER District Library
DESCRIPTION:An annual Elk Rapids December tradition is Ladies' Night\, and the Friends of the Library will once again be at Cellar 152 for Sip & Support our chance to get together\, meet new people\, and raise awareness and support for the Elk Rapids Library. We hope you'll join us on Thursday\, December 14.
X-ALT-DESC;FMTTYPE=text/html:<span style="color: rgb(81\, 88\, 86)\; font-family: Inter\, sans-serif\; font-size: 16px\; background-color: rgb(255\, 255\, 255)\;">An annual Elk Rapids December tradition is Ladies&rsquo\; Night\, and the Friends of the Library will once again be at Cellar 152 for Sip &amp\; Support&mdash\;our chance to get together\, meet new people\, and raise awareness and support for the Elk Rapids Library. We hope you&rsquo\;ll join us on Thursday\, December 14.</span>
LOCATION:Cellar 152 152 River St. Elk Rapids
UID:e.2409.40275
SEQUENCE:3
DTSTAMP:20260419T180048Z
URL:https://business.elkrapidschamber.org/events/details/sip-support-for-the-friends-of-the-er-district-library-40275
END:VEVENT

END:VCALENDAR
