BEGIN:VCALENDAR
VERSION:2.0
PRODID:-//ChamberMaster//Event Calendar 2.0//EN
METHOD:PUBLISH
X-PUBLISHED-TTL:P3D
REFRESH-INTERVAL:P3D
CALSCALE:GREGORIAN
BEGIN:VEVENT
DTSTART:20230204T230000Z
DTEND:20230205T010000Z
X-MICROSOFT-CDO-ALLDAYEVENT:FALSE
SUMMARY:Sip & Craft Night at BOS Wine
DESCRIPTION:Saturday\, February 4th\, 6- 8 pm\n\nJoin us Saturday\, February 4th\, for a Valentine-Inspired Sip & Craft with Sawdust & Lace Studio. We are offering 2 Valentines crafts (Wood Signs and Pennants) that will decorate your home for years to come. Grab a few of your gal pals or make it a Mom-Child date and come craft with us on February 4th at 5 pm. Tickets can be found HERE.\n\nTickets for the round sign are $45 per person and include a glass of wine and a craft kit that will have everything needed to create your own sign.  \n\nTickets for the pennant are perfect for kids\, are $20\, and include a glass of our sparkling fruit tonic and a craft kit that will have everything your child needs to create their own pennant.
X-ALT-DESC;FMTTYPE=text/html:<p style="box-sizing: border-box\; margin: 1em 0px\; font-family: &quot\;trebuchet ms&quot\;\; font-size: 12px\;"><span style="box-sizing: border-box\; font-size: 14px\;"><span style="box-sizing: border-box\; font-family: arial\, helvetica\, sans-serif\;"><span style="box-sizing: border-box\; font-weight: bolder\;"><em style="box-sizing: border-box\;">Saturday\, February 4th\, 6- 8 pm</em></span><br style="box-sizing: border-box\;" />\nJoin us Saturday\, February 4th\, for a Valentine-Inspired Sip &amp\; Craft with&nbsp\;<a href="https://u2055856.ct.sendgrid.net/ls/click?upn=lkVIWMU5h-2BDWaQlKZsLI1bVfL90izDtHrTZ-2FFQG9QmXpBMUGn6vezDYEStvgS3LgE1izLRcB8NS-2BquO5hFzDq97TX2GLlRWvmdpz1Or-2BUno5U-2FKvEefT-2BJdfnbil5VMYYue9Vs9XnJlE8nUAfiZIk-2BiX6cqCdlxyAS-2FYTbdciyHtfnT-2FCjjk3uPRfH4AyKMcGCKw0h4emXZ6V-2B50pdfzKO0HkDM9YsF9-2Bqm1LDUyfabZb9OqMBxD3SwXg-2BkvlAtpbeOFGREEhKDJM2tGL1OCXuVyFNnz5K8ezJPt1zX4-2BU3rJLqrrnS3PHRPbJNmSBWEyPE9ixP3aFcTloa8Gnh1de6qFVnC5-2Br9zfStvVsueJU-3DJQmf_xAtMGaMkWf5emRe4bUHbNuTS2fuXcTQCeleXaWLQAGXH6WsoljrbCV5KeHW5zN6tSh-2BlzpiNqhVKu4k5-2BBt1EdmHM-2F7UjkW1Kr-2B2r24ukqOHY1DMFxUBZjur3KXkuCvEqyhJi8dWAXtWq3Q-2FIvqRfyBtNp-2B6RmX6eVR5mZ-2FZO7swuenJq3WEQGHXXnYyGapLlI-2FuhZNMzav-2FS-2B4-2FnHP2X2LwcX-2BTHD2UBi2aknmTxtkT2D-2BpN4SRO13Wb8DIilnbobwHA7r8h9f-2FQlY6rnCypfZo-2FxpPr0ZtY0bXub5RIH-2FNMYbtA5Pu2d-2BfaelWKMpZAturLKDKxmq5egzDPiOZ1K6wN-2FLIpASM-2F6nK-2FiA2PaYQ0WGPSUE6R7czbT3MYpeAPAnYLsU-2FabU91U-2Fx29ImLM2nExt-2FWoKFtmo2QxW091u5NFklRdZkQFN7bwSalRHvtD6uvZN8sWBk6RjTJsVk4A-3D-3D" rel="noreferrer" style="box-sizing: border-box\; color: rgb(255\, 102\, 0)\; text-decoration-line: none\;" target="_blank">Sawdust &amp\; Lace Studio</a>.</span></span><span style="box-sizing: border-box\; font-family: arial\, helvetica\, sans-serif\; font-size: 14px\;">&nbsp\;We are offering 2 Valentines crafts (Wood Signs and Pennants) that will decorate your home for years to come. Grab a few of your gal pals or make it a Mom-Child date and come craft with us on February 4th at 5 pm. Tickets can be found&nbsp\;<a href="https://u2055856.ct.sendgrid.net/ls/click?upn=lkVIWMU5h-2BDWaQlKZsLI1bVfL90izDtHrTZ-2FFQG9QmXpBMUGn6vezDYEStvgS3LgE1izLRcB8NS-2BquO5hFzDq97TX2GLlRWvmdpz1Or-2BUno5U-2FKvEefT-2BJdfnbil5VMYYue9Vs9XnJlE8nUAfiZIk-2BiX6cqCdlxyAS-2FYTbdciyHtfnT-2FCjjk3uPRfH4AyKMctpBlg9p03zRl-2BGwWreyqtVO7AkrWoCWlLdmYynrnEfKOXYGZaAyToXxXmDyMGm4x9DlPFvAPdUYCGmNKmPIR8ge9uhYk9CzWl37DMxQEo5iUSZsVFxZUg2w6xVP5JnJbOk6CbtS0wVbVIqK3-2F8Ol12Fg0UPRiObSmf0iJ5FXbhM-3DOVzg_xAtMGaMkWf5emRe4bUHbNuTS2fuXcTQCeleXaWLQAGXH6WsoljrbCV5KeHW5zN6tSh-2BlzpiNqhVKu4k5-2BBt1EdmHM-2F7UjkW1Kr-2B2r24ukqOHY1DMFxUBZjur3KXkuCvEqyhJi8dWAXtWq3Q-2FIvqRfyBtNp-2B6RmX6eVR5mZ-2FZO7swuenJq3WEQGHXXnYyGapLlI-2FuhZNMzav-2FS-2B4-2FnHP2X2LwcX-2BTHD2UBi2aknmTxtkT2D-2BpN4SRO13Wb8DIilnbobwHA7r8h9f-2FQlY6rnCypfZo-2FxpPr0ZtY0bXub5RIH-2FNMYbtA5Pu2d-2BfaelWKMpZRFOyVvrVIEE9m8oe9-2BTIXkt2RuqAXAQvdUz5vH9ighvwia2X5-2F5MrjrZ2lUzSMOQnxw6I4zpZzlU089-2F3Jx-2FaMlvsN1Hsi9kPAE3MTyKPjnpMxd-2FWkubkRT8jrj0LO9RjL6ALIRzz3Gf-2BiAjxC8MQQ-3D-3D" rel="noreferrer" style="box-sizing: border-box\; color: rgb(255\, 102\, 0)\; text-decoration-line: none\;" target="_blank">HERE</a>.</span></p>\n\n<p style="box-sizing: border-box\; margin: 1em 0px\; font-family: &quot\;trebuchet ms&quot\;\; font-size: 12px\;"><span style="box-sizing: border-box\; font-family: arial\, helvetica\, sans-serif\; font-size: 14px\;">Tickets for the round sign are $45 per person and include a glass of wine and a craft kit that will have everything needed to create your own sign.&nbsp\;&nbsp\;</span></p>\n\n<p style="box-sizing: border-box\; margin: 1em 0px\; font-family: &quot\;trebuchet ms&quot\;\; font-size: 12px\;"><span style="box-sizing: border-box\; font-family: arial\, helvetica\, sans-serif\; font-size: 14px\;">Tickets for the pennant are perfect for kids\, are $20\, and include a glass of our sparkling fruit tonic and a craft kit that will have everything your child needs to create their own pennant.</span></p>\n
LOCATION:135 Ames Street Elk Rapids
UID:e.2409.35517
SEQUENCE:3
DTSTAMP:20260420T070608Z
URL:https://business.elkrapidschamber.org/events/details/sip-craft-night-at-bos-wine-35517
END:VEVENT

END:VCALENDAR
