BEGIN:VCALENDAR
VERSION:2.0
PRODID:-//ChamberMaster//Event Calendar 2.0//EN
METHOD:PUBLISH
X-PUBLISHED-TTL:P3D
REFRESH-INTERVAL:P3D
CALSCALE:GREGORIAN
BEGIN:VEVENT
DTSTART:20231208T160000Z
DTEND:20231208T213000Z
X-MICROSOFT-CDO-ALLDAYEVENT:FALSE
SUMMARY:Silly Sister's Pottery Open Hou
DESCRIPTION:Friday & Saturday\, Dec 8 & 9\n\n11:00 am   4:30 pm\n\nSilly Sister's Pottery \n\n5th Annual Holiday Open Gallery\n\nAt SSP's Gallery/Studio!\n\n \n\nA Group Event!\n\n \n\nSilly Sister's Pottery by Denni Moline\n\nHandbuilt Birch Platters by Jan Toscano\n\nGorgeous Photography by Wendy Petera\n\n \n\nBrowse All These and More Gorgeous and Artistic Christmas Gifts!\n\nWine and Christmas Munchies\n\n \n\nDenise B. Moline\n\nSilly Sister's Pottery\n\n11421 Hickin Rd. NW\n\nRapid City\, MI 49676\n\nPh:  630-408-1405\n\ndbmoline@torchlake.com\n\nsillysisterspottery.net
X-ALT-DESC;FMTTYPE=text/html:<p style="margin: 0px\; padding: 0px\; text-align: center\;"><span style="font-size: 20px\; color: rgb(3\, 4\, 4)\; font-weight: bold\; font-family: Calibri\, Helvetica\, Arial\, sans-serif\;">Friday &amp\; Saturday\, Dec 8&nbsp\;&amp\; 9</span></p>\n\n<p style="margin: 0px\; padding: 0px\; text-align: center\;"><span style="font-size: 20px\; color: rgb(3\, 4\, 4)\; font-weight: bold\; font-family: Calibri\, Helvetica\, Arial\, sans-serif\;">11:00 am &ndash\; 4:30 pm</span></p>\n\n<p style="margin: 0px\; padding: 0px\; text-align: center\;"><span style="font-size: 20px\; color: rgb(3\, 4\, 4)\; font-weight: bold\; font-family: Calibri\, Helvetica\, Arial\, sans-serif\;">Silly Sister&rsquo\;s Pottery </span></p>\n\n<p style="margin: 0px\; padding: 0px\; text-align: center\;"><span style="font-size: 20px\; color: rgb(3\, 4\, 4)\; font-weight: bold\; font-family: Calibri\, Helvetica\, Arial\, sans-serif\;">5th Annual Holiday Open Gallery</span></p>\n\n<p style="margin: 0px\; padding: 0px\; text-align: center\;"><span style="font-size: 20px\; color: rgb(3\, 4\, 4)\; font-weight: bold\; font-family: Calibri\, Helvetica\, Arial\, sans-serif\;">At SSP&rsquo\;s Gallery/Studio!</span></p>\n\n<p style="margin: 0px\; padding: 0px\; text-align: center\;">&nbsp\;</p>\n\n<p style="margin: 0px\; padding: 0px\; text-align: center\;"><span style="font-size: 18px\; color: rgb(18\, 22\, 23)\; font-family: Calibri\, Helvetica\, Arial\, sans-serif\; font-weight: bold\;">A Group Event!</span></p>\n\n<p style="margin: 0px\; padding: 0px\; text-align: center\;">&nbsp\;</p>\n\n<p style="margin: 0px\; padding: 0px\; text-align: center\;"><span style="font-size: 16px\; color: rgb(18\, 22\, 23)\; font-family: Calibri\, Helvetica\, Arial\, sans-serif\; font-weight: bold\;">Silly Sister&rsquo\;s Pottery by Denni Moline</span></p>\n\n<p style="margin: 0px\; padding: 0px\; text-align: center\;"><span style="font-size: 16px\; color: rgb(18\, 22\, 23)\; font-family: Calibri\, Helvetica\, Arial\, sans-serif\; font-weight: bold\;">Handbuilt Birch Platters by Jan Toscano</span></p>\n\n<p style="margin: 0px\; padding: 0px\; text-align: center\;"><span style="font-size: 16px\; color: rgb(18\, 22\, 23)\; font-family: Calibri\, Helvetica\, Arial\, sans-serif\; font-weight: bold\;">Gorgeous Photography by Wendy Petera</span></p>\n\n<p style="margin: 0px\; padding: 0px\; text-align: center\;"><span style="font-size: 16px\; color: rgb(18\, 22\, 23)\; font-family: Calibri\, Helvetica\, Arial\, sans-serif\; font-weight: bold\;">&nbsp\;</span></p>\n\n<p style="margin: 0px\; padding: 0px\; text-align: center\;"><span style="font-size: 16px\; color: rgb(18\, 22\, 23)\; font-family: Calibri\, Helvetica\, Arial\, sans-serif\; font-weight: bold\;">Browse All These and More Gorgeous and Artistic Christmas Gifts!</span></p>\n\n<p style="margin: 0px\; padding: 0px\; text-align: center\;"><span style="font-size: 16px\; color: rgb(18\, 22\, 23)\; font-family: Calibri\, Helvetica\, Arial\, sans-serif\; font-weight: bold\;">Wine and Christmas Munchies</span></p>\n\n<p class="v1v1MsoNormal" style="box-sizing: border-box\; margin: 0in\; font-size: 11pt\; font-family: Calibri\, sans-serif\; color: rgb(44\, 54\, 58)\; background-color: rgb(255\, 255\, 255)\;"><em style="box-sizing: border-box\;"><span style="box-sizing: border-box\; font-size: 14pt\;">&nbsp\;</span></em></p>\n\n<p align="center" class="v1v1MsoNormal" style="box-sizing: border-box\; margin: 0in\; font-size: 11pt\; font-family: Calibri\, sans-serif\; color: rgb(44\, 54\, 58)\; background-color: rgb(255\, 255\, 255)\; text-align: center\;"><em style="box-sizing: border-box\;"><span style="box-sizing: border-box\; font-size: 14pt\;">Denise B. Moline</span></em></p>\n\n<p align="center" class="v1v1MsoNormal" style="box-sizing: border-box\; margin: 0in\; font-size: 11pt\; font-family: Calibri\, sans-serif\; color: rgb(44\, 54\, 58)\; background-color: rgb(255\, 255\, 255)\; text-align: center\;"><em style="box-sizing: border-box\;"><span style="box-sizing: border-box\; font-size: 14pt\;">Silly Sister&#39\;s Pottery</span></em></p>\n\n<p align="center" class="v1v1MsoNormal" style="box-sizing: border-box\; margin: 0in\; font-size: 11pt\; font-family: Calibri\, sans-serif\; color: rgb(44\, 54\, 58)\; background-color: rgb(255\, 255\, 255)\; text-align: center\;"><em style="box-sizing: border-box\;"><span style="box-sizing: border-box\; font-size: 14pt\;">11421 Hickin Rd. NW</span></em></p>\n\n<p align="center" class="v1v1MsoNormal" style="box-sizing: border-box\; margin: 0in\; font-size: 11pt\; font-family: Calibri\, sans-serif\; color: rgb(44\, 54\, 58)\; background-color: rgb(255\, 255\, 255)\; text-align: center\;"><em style="box-sizing: border-box\;"><span style="box-sizing: border-box\; font-size: 14pt\;">Rapid City\, MI 49676</span></em></p>\n\n<p align="center" class="v1v1MsoNormal" style="box-sizing: border-box\; margin: 0in\; font-size: 11pt\; font-family: Calibri\, sans-serif\; color: rgb(44\, 54\, 58)\; background-color: rgb(255\, 255\, 255)\; text-align: center\;"><em style="box-sizing: border-box\;"><span style="box-sizing: border-box\; font-size: 14pt\;">Ph:&nbsp\; 630-408-1405</span></em></p>\n\n<p align="center" class="v1v1MsoNormal" style="box-sizing: border-box\; margin: 0in\; font-size: 11pt\; font-family: Calibri\, sans-serif\; color: rgb(44\, 54\, 58)\; background-color: rgb(255\, 255\, 255)\; text-align: center\;"><em style="box-sizing: border-box\;"><span style="box-sizing: border-box\; font-size: 14pt\;"><a href="mailto:dbmoline@torchlake.com" rel="noreferrer" style="box-sizing: border-box\; color: blue\; background-color: transparent\;">dbmoline@torchlake.com</a></span></em></p>\n\n<p align="center" class="v1v1MsoNormal" style="box-sizing: border-box\; margin: 0in\; font-size: 11pt\; font-family: Calibri\, sans-serif\; color: rgb(44\, 54\, 58)\; background-color: rgb(255\, 255\, 255)\; text-align: center\;"><em style="box-sizing: border-box\;"><span style="box-sizing: border-box\; font-size: 14pt\;">sillysisterspottery.net</span></em></p>\n
LOCATION:11421 Hickin Rd. NW Rapid City\, MI 49676
UID:e.2409.40308
SEQUENCE:3
DTSTAMP:20260419T175539Z
URL:https://business.elkrapidschamber.org/events/details/silly-sister-s-pottery-open-hou-40308
END:VEVENT

END:VCALENDAR
