BEGIN:VCALENDAR
VERSION:2.0
PRODID:-//ChamberMaster//Event Calendar 2.0//EN
METHOD:PUBLISH
X-PUBLISHED-TTL:P3D
REFRESH-INTERVAL:P3D
CALSCALE:GREGORIAN
BEGIN:VEVENT
DTSTART:20240129T213000Z
DTEND:20240129T223000Z
X-MICROSOFT-CDO-ALLDAYEVENT:FALSE
SUMMARY:Shrinky Dinks Craft at ER Library
DESCRIPTION:Adults and Teens are invited to create at the library. Join us for another fun Craft Night making Jewelry and Accessories! No registration is required\, just drop in and make something with us!
X-ALT-DESC;FMTTYPE=text/html:<span style="color: rgb(5\, 5\, 5)\; font-family: &quot\;Segoe UI Historic&quot\;\, &quot\;Segoe UI&quot\;\, Helvetica\, Arial\, sans-serif\; font-size: 15px\; background-color: rgb(255\, 255\, 255)\;">Adults and Teens are invited to create at the library. Join us for another fun Craft Night making Jewelry and Accessories! No registration is required\, just drop in and make something with us!</span>
LOCATION:300 Isle of Pines Elk Rapids\, MI 49629
UID:e.2409.41940
SEQUENCE:3
DTSTAMP:20260419T121412Z
URL:https://business.elkrapidschamber.org/events/details/shrinky-dinks-craft-at-er-library-41940
END:VEVENT

END:VCALENDAR
