BEGIN:VCALENDAR
VERSION:2.0
PRODID:-//ChamberMaster//Event Calendar 2.0//EN
METHOD:PUBLISH
X-PUBLISHED-TTL:P3D
REFRESH-INTERVAL:P3D
CALSCALE:GREGORIAN
BEGIN:VEVENT
DTSTART:20190818T150000Z
DTEND:20190818T190000Z
X-MICROSOFT-CDO-ALLDAYEVENT:FALSE
SUMMARY:Short's Glacial Hills Challenge
DESCRIPTION:It's back! Support the trails\, enjoy a fast and fun race\, and recovery with your pals from Short's Brewing Company on Sunday\, August 18. Brent and the Fun Promotions crew are coming back to Bellaire for the second stop in the three Northern Michigan Mountain Bike Association races this summer\, and there's no better time to hit Glacial. Multiple classes\, categories\, and distances\, ensuring the right race for any skill level! \n\n\n\nFor more details\, head here: https://funpromotions.com/events/glacial-hills-challenge/
X-ALT-DESC;FMTTYPE=text/html:<span style="display: inline !important\; float: none\; background-color: rgb(255\, 255\, 255)\; color: rgb(29\, 33\, 41)\; font-family: inherit\; font-size: 14px\; font-style: normal\; font-variant: normal\; font-weight: 400\; letter-spacing: normal\; orphans: 2\; text-align: left\; text-decoration: none\; text-indent: 0px\; text-transform: none\; -webkit-text-stroke-width: 0px\; white-space: pre-wrap\; word-spacing: 0px\;">It&#39\;s back! Support the trails\, enjoy a fast and fun race\, and recovery with your pals from </span><a href="https://www.facebook.com/ShortsBrewing/" style="color: rgb(56\, 88\, 152)\; cursor: pointer\; font-family: inherit\; font-size: 14px\; font-style: normal\; font-variant: normal\; font-weight: 400\; letter-spacing: normal\; orphans: 2\; text-align: left\; text-decoration: none\; text-indent: 0px\; text-transform: none\; -webkit-text-stroke-width: 0px\; white-space: pre-wrap\; word-spacing: 0px\;" target="_blank">Short&#39\;s Brewing Company</a><span style="display: inline !important\; float: none\; background-color: rgb(255\, 255\, 255)\; color: rgb(29\, 33\, 41)\; font-family: inherit\; font-size: 14px\; font-style: normal\; font-variant: normal\; font-weight: 400\; letter-spacing: normal\; orphans: 2\; text-align: left\; text-decoration: none\; text-indent: 0px\; text-transform: none\; -webkit-text-stroke-width: 0px\; white-space: pre-wrap\; word-spacing: 0px\;"> on Sunday\, August 18. Brent and the Fun Promotions crew are coming back to Bellaire for the second stop in the three </span><a href="https://www.facebook.com/NMMBA/" style="color: rgb(56\, 88\, 152)\; cursor: pointer\; font-family: inherit\; font-size: 14px\; font-style: normal\; font-variant: normal\; font-weight: 400\; letter-spacing: normal\; orphans: 2\; text-align: left\; text-decoration: none\; text-indent: 0px\; text-transform: none\; -webkit-text-stroke-width: 0px\; white-space: pre-wrap\; word-spacing: 0px\;" target="_blank">Northern Michigan Mountain Bike Association</a><span style="display: inline !important\; float: none\; background-color: rgb(255\, 255\, 255)\; color: rgb(29\, 33\, 41)\; font-family: inherit\; font-size: 14px\; font-style: normal\; font-variant: normal\; font-weight: 400\; letter-spacing: normal\; orphans: 2\; text-align: left\; text-decoration: none\; text-indent: 0px\; text-transform: none\; -webkit-text-stroke-width: 0px\; white-space: pre-wrap\; word-spacing: 0px\;"> races this summer\, and there&#39\;s no better time to hit Glacial. Multiple classes\, categories\, and distances\, ensuring the right race for any skill level! </span><br style="color: rgb(29\, 33\, 41)\; font-family: Helvetica\,Arial\,sans-serif\; font-size: 14px\; font-style: normal\; font-variant: normal\; font-weight: 400\; letter-spacing: normal\; orphans: 2\; text-align: left\; text-decoration: none\; text-indent: 0px\; text-transform: none\; -webkit-text-stroke-width: 0px\; white-space: pre-wrap\; word-spacing: 0px\;" />\n<br style="color: rgb(29\, 33\, 41)\; font-family: Helvetica\,Arial\,sans-serif\; font-size: 14px\; font-style: normal\; font-variant: normal\; font-weight: 400\; letter-spacing: normal\; orphans: 2\; text-align: left\; text-decoration: none\; text-indent: 0px\; text-transform: none\; -webkit-text-stroke-width: 0px\; white-space: pre-wrap\; word-spacing: 0px\;" />\n<span style="display: inline !important\; float: none\; background-color: rgb(255\, 255\, 255)\; color: rgb(29\, 33\, 41)\; font-family: inherit\; font-size: 14px\; font-style: normal\; font-variant: normal\; font-weight: 400\; letter-spacing: normal\; orphans: 2\; text-align: left\; text-decoration: none\; text-indent: 0px\; text-transform: none\; -webkit-text-stroke-width: 0px\; white-space: pre-wrap\; word-spacing: 0px\;">For more details\, head here: </span><a data-lynx-mode="hover" href="https://l.facebook.com/l.php?u=https%3A%2F%2Ffunpromotions.com%2Fevents%2Fglacial-hills-challenge%2F%3Ffbclid%3DIwAR2X9UvP_dqZI78OO4BsqV5_izpQjfVOe0tAgChejl9fwl7EPnLPmgpXF-8&amp\;h=AT1H9w3jVNzq1cAfybKk-cfd8M3T3qqc7Kqq0zkwQ5dQiHTTL3NoRPFJeVNNBeYLr6sDZN6VPO90Je_nqhjmMYVxif8avzOtXUwy0cZ4XkfZUkae8vQqHbVW1izuIkt_vO8S" rel="nofollow" style="color: rgb(56\, 88\, 152)\; cursor: pointer\; font-family: inherit\; font-size: 14px\; font-style: normal\; font-variant: normal\; font-weight: 400\; letter-spacing: normal\; orphans: 2\; text-align: left\; text-decoration: none\; text-indent: 0px\; text-transform: none\; -webkit-text-stroke-width: 0px\; white-space: pre-wrap\; word-spacing: 0px\;" target="_blank">https://funpromotions.com/events/glacial-hills-challenge/</a>
LOCATION:Glacial Hills Trails Bellaire\, MI 49615
UID:e.2409.19307
SEQUENCE:3
DTSTAMP:20260424T045432Z
URL:https://business.elkrapidschamber.org/events/details/short-s-glacial-hills-challenge-19307
END:VEVENT

END:VCALENDAR
