BEGIN:VCALENDAR
VERSION:2.0
PRODID:-//ChamberMaster//Event Calendar 2.0//EN
METHOD:PUBLISH
X-PUBLISHED-TTL:P3D
REFRESH-INTERVAL:P3D
CALSCALE:GREGORIAN
BEGIN:VEVENT
DTSTART;VALUE=DATE:20190223
DTEND;VALUE=DATE:20190224
TRANSP:TRANSPARENT
X-MICROSOFT-CDO-ALLDAYEVENT:TRUE
SUMMARY:Short's Barrel Aged Bash
DESCRIPTION:We're feeling extra cold this winter\, so we've made a plan to warm up from the inside out with some barrel aged beers and ciders. Pulling out all of the stops\, we have a mix of everything that is barrel aged and delicious\, from ciders to Scotch Ales to IPAs\, taking over half of our taps on Saturday\, February 23rd for our first ever Barrel Aged Bash! We'll also be releasing Peated Bourbon Hammer Jack on tap and in 22 oz bottles from our Private Stache. Stay with us until the evening and put on your dancing shoes because Reggie Smith and the After Party are performing at 9 pm.\n\nTap List:\n\nSee Ya Never\n\nGratitude\n\nBourbon Chocolate Wheat\n\nVieux Rouge\n\nPeated Bourbon Hammer Jack\n\nBourbon Hey Neighbor\n\nErraticus 20\n\nBourbon Ectoplasmo\n\nStray Cat Street Fighting For The Devil\n\nBourbon Huma Lupa Licious
X-ALT-DESC;FMTTYPE=text/html:<p><span style="background-color:transparent\; font-family:arial\; font-size:10.5pt">We&rsquo\;re feeling extra cold this winter\, so we&rsquo\;ve made a plan to warm up from the inside out with some barrel aged beers and ciders. Pulling out all of the stops\, we have a mix of everything that is barrel aged and delicious\, from ciders to Scotch Ales to IPAs\, taking over half of our taps on Saturday\, February 23rd for our first ever Barrel Aged Bash! We&rsquo\;ll also be releasing Peated Bourbon Hammer Jack on tap and in 22 oz bottles from our </span><a href="http://shortsbrewing.com/private-stache" style="text-decoration-line: none\;"><span style="background-color:transparent\; color:rgb(107\, 162\, 47)\; font-family:arial\; font-size:10.5pt">Private Stache</span></a><span style="background-color:transparent\; font-family:arial\; font-size:10.5pt">. Stay with us until the evening and put on your dancing shoes because </span><a href="https://www.facebook.com/RSAPband/" style="text-decoration-line: none\;"><span style="background-color:transparent\; color:rgb(107\, 162\, 47)\; font-family:arial\; font-size:10.5pt">Reggie Smith and the After Party</span></a><span style="background-color:transparent\; font-family:arial\; font-size:10.5pt"> are performing at 9 pm.</span></p>\n\n<p><span style="background-color:transparent\; font-family:arial\; font-size:10.5pt">Tap List:</span><br />\n<a href="https://www.shortsbrewing.com/beers/see-ya-never/" style="text-decoration-line: none\;"><span style="background-color:transparent\; color:rgb(107\, 162\, 47)\; font-family:arial\; font-size:10.5pt">See Ya Never</span></a><br />\n<a href="https://www.shortsbrewing.com/beers/gratitude/" style="text-decoration-line: none\;"><span style="background-color:transparent\; color:rgb(107\, 162\, 47)\; font-family:arial\; font-size:10.5pt">Gratitude</span></a><br />\n<span style="background-color:transparent\; font-family:arial\; font-size:10.5pt">Bourbon Chocolate Wheat</span><br />\n<a href="https://www.shortsbrewing.com/beers/vieux-rouge/" style="text-decoration-line: none\;"><span style="background-color:transparent\; color:rgb(107\, 162\, 47)\; font-family:arial\; font-size:10.5pt">Vieux Rouge</span></a><br />\n<a href="https://www.shortsbrewing.com/beers/peated-bourbon-barrel-aged-hammer-jack/" style="text-decoration-line: none\;"><span style="background-color:transparent\; color:rgb(107\, 162\, 47)\; font-family:arial\; font-size:10.5pt">Peated Bourbon Hammer Jack</span></a><br />\n<span style="background-color:transparent\; font-family:arial\; font-size:10.5pt">Bourbon Hey Neighbor</span><br />\n<a href="http://starcutciders.com/our-ciders/erraticus-20/" style="text-decoration-line: none\;"><span style="background-color:transparent\; color:rgb(107\, 162\, 47)\; font-family:arial\; font-size:10.5pt">Erraticus 20</span></a><br />\n<span style="background-color:transparent\; font-family:arial\; font-size:10.5pt">Bourbon Ectoplasmo</span><br />\n<a href="https://www.shortsbrewing.com/beers/stray-cat-street-fighting-for-the-devil/" style="text-decoration-line: none\;"><span style="background-color:transparent\; color:rgb(107\, 162\, 47)\; font-family:arial\; font-size:10.5pt">Stray Cat Street Fighting For The Devil</span></a><br />\n<span style="background-color:transparent\; color:rgb(107\, 162\, 47)\; font-family:arial\; font-size:10.5pt"><a href="https://www.shortsbrewing.com/beers/bourbon-huma/" style="text-decoration-line: none\;">Bourbon Huma Lupa Licious</a></span></p>\n\n<div>&nbsp\;</div>\n
LOCATION:Short's Brewing Company Pub 121 N Bridge Street Bellaire\, MI 49615
UID:e.2409.18222
SEQUENCE:3
DTSTAMP:20260426T032738Z
URL:https://business.elkrapidschamber.org/events/details/short-s-barrel-aged-bash-18222
END:VEVENT

END:VCALENDAR
