BEGIN:VCALENDAR
VERSION:2.0
PRODID:-//ChamberMaster//Event Calendar 2.0//EN
METHOD:PUBLISH
X-PUBLISHED-TTL:P3D
REFRESH-INTERVAL:P3D
CALSCALE:GREGORIAN
BEGIN:VEVENT
DTSTART:20191214T150000Z
DTEND:20191214T220000Z
X-MICROSOFT-CDO-ALLDAYEVENT:FALSE
SUMMARY:SHOP\, DROP & JINGLE
DESCRIPTION:For the third annual year\, Twisted Fish Gallery will host\, "Shop\, Drop & Jingle" a Holiday Soiree. The Cottage Gallery hosts a cozy market with some of our community's finest handcrafted items . The Main Gallery will feature artists on site. Both offer a wide selection of gift giving ideas. There will be refreshments\, good cheer and a jingle or two! Grab friends & family and make this a special tradition. We look forward to celebrating with you.
X-ALT-DESC;FMTTYPE=text/html:For the third annual year\, Twisted Fish Gallery will host\, &quot\;Shop\, Drop &amp\; Jingle&quot\; a Holiday Soiree. The Cottage Gallery hosts a cozy market with some of our community&#39\;s finest handcrafted items . The Main Gallery will feature artists on site. Both offer a wide selection of gift giving ideas. There will be refreshments\, good cheer and a jingle or two! Grab friends &amp\; family and make this a special tradition. We look forward to celebrating with you.
LOCATION:Twisted Fish Gallery: 10443 S Bayshore Dr. Elk Rapids (corner of Bayshore and U.S. 31)
UID:e.2409.22270
SEQUENCE:3
DTSTAMP:20260419T140319Z
URL:https://business.elkrapidschamber.org/events/details/shop-drop-jingle-22270
END:VEVENT

END:VCALENDAR
