BEGIN:VCALENDAR
VERSION:2.0
PRODID:-//ChamberMaster//Event Calendar 2.0//EN
METHOD:PUBLISH
X-PUBLISHED-TTL:P3D
REFRESH-INTERVAL:P3D
CALSCALE:GREGORIAN
BEGIN:VEVENT
DTSTART:20190605T213000Z
DTEND:20190605T230000Z
X-MICROSOFT-CDO-ALLDAYEVENT:FALSE
SUMMARY:SCORE Workshop
DESCRIPTION:Evening Workships with Networking\n\nLet's review your business plan
X-ALT-DESC;FMTTYPE=text/html:<div align="center" style="font: 12px/normal &quot\;Lucida Grande&quot\;\, Verdana\, Arial\, Helvetica\, sans-serif\; color: rgb(0\, 0\, 0)\; text-transform: none\; text-indent: 0px\; letter-spacing: normal\; word-spacing: 0px\; white-space: normal\; widows: 1\; font-size-adjust: none\; font-stretch: normal\; background-color: rgb(255\, 255\, 255)\; -webkit-text-stroke-width: 0px\;">Evening Workships with Networking<br />\nLet&#39\;s review your business plan</div>\n
LOCATION:
UID:e.2409.18065
SEQUENCE:3
DTSTAMP:20260425T105823Z
URL:https://business.elkrapidschamber.org/events/details/score-workshop-18065
END:VEVENT

END:VCALENDAR
