BEGIN:VCALENDAR
VERSION:2.0
PRODID:-//ChamberMaster//Event Calendar 2.0//EN
METHOD:PUBLISH
X-PUBLISHED-TTL:P3D
REFRESH-INTERVAL:P3D
CALSCALE:GREGORIAN
BEGIN:VEVENT
DTSTART:20190917T153000Z
DTEND:20190917T170000Z
X-MICROSOFT-CDO-ALLDAYEVENT:FALSE
SUMMARY:SCORE Workshop
DESCRIPTION:Planning and Running Your Business Series\n\nTaking your business to the next Level (2nd Tier)
X-ALT-DESC;FMTTYPE=text/html:<div align="center" style="font: 12px/normal &quot\;Lucida Grande&quot\;\, Verdana\, Arial\, Helvetica\, sans-serif\; color: rgb(0\, 0\, 0)\; text-transform: none\; text-indent: 0px\; letter-spacing: normal\; word-spacing: 0px\; white-space: normal\; widows: 1\; font-size-adjust: none\; font-stretch: normal\; background-color: rgb(255\, 255\, 255)\; -webkit-text-stroke-width: 0px\;">Planning and Running Your Business Series<br />\nTaking your business to the next Level (2nd Tier)</div>\n
LOCATION:
UID:e.2409.18060
SEQUENCE:3
DTSTAMP:20260422T234526Z
URL:https://business.elkrapidschamber.org/events/details/score-workshop-18060
END:VEVENT

END:VCALENDAR
