BEGIN:VCALENDAR
VERSION:2.0
PRODID:-//ChamberMaster//Event Calendar 2.0//EN
METHOD:PUBLISH
X-PUBLISHED-TTL:P3D
REFRESH-INTERVAL:P3D
CALSCALE:GREGORIAN
BEGIN:VEVENT
DTSTART:20190926T160000Z
DTEND:20190926T170000Z
X-MICROSOFT-CDO-ALLDAYEVENT:FALSE
SUMMARY:SCORE Workshop
DESCRIPTION:Lunchtime Digital Series\n\nEmail Marketing - Part 2 of 2
X-ALT-DESC;FMTTYPE=text/html:<div align="center" style="font: 12px/normal &quot\;Lucida Grande&quot\;\, Verdana\, Arial\, Helvetica\, sans-serif\; color: rgb(0\, 0\, 0)\; text-transform: none\; text-indent: 0px\; letter-spacing: normal\; word-spacing: 0px\; white-space: normal\; widows: 1\; font-size-adjust: none\; font-stretch: normal\; background-color: rgb(255\, 255\, 255)\; -webkit-text-stroke-width: 0px\;">Lunchtime Digital Series<br />\nEmail Marketing - Part 2 of 2</div>\n
LOCATION:
UID:e.2409.18052
SEQUENCE:3
DTSTAMP:20260423T035624Z
URL:https://business.elkrapidschamber.org/events/details/score-workshop-18052
END:VEVENT

END:VCALENDAR
