BEGIN:VCALENDAR
VERSION:2.0
PRODID:-//ChamberMaster//Event Calendar 2.0//EN
METHOD:PUBLISH
X-PUBLISHED-TTL:P3D
REFRESH-INTERVAL:P3D
CALSCALE:GREGORIAN
BEGIN:VEVENT
DTSTART:20190624T140000Z
DTEND:20190628T183000Z
X-MICROSOFT-CDO-ALLDAYEVENT:FALSE
SUMMARY:Science Camp
DESCRIPTION:Investigate careers in chemical\, civil\, structural\, aeronautical\, electrical and environmental engineering. Bring a bag lunch\, hat\, sunscreen\, and insect repellent each day.
X-ALT-DESC;FMTTYPE=text/html:Investigate careers in chemical\, civil\, structural\, aeronautical\, electrical and environmental engineering. Bring a bag lunch\, hat\, sunscreen\, and insect repellent each day.
LOCATION:Raven Hill Discovery Center 4737 Fuller Road East Jordan\, MI 49727
UID:e.2409.19294
SEQUENCE:3
DTSTAMP:20260425T014456Z
URL:https://business.elkrapidschamber.org/events/details/science-camp-19294
END:VEVENT

END:VCALENDAR
