BEGIN:VCALENDAR
VERSION:2.0
PRODID:-//ChamberMaster//Event Calendar 2.0//EN
METHOD:PUBLISH
X-PUBLISHED-TTL:P3D
REFRESH-INTERVAL:P3D
CALSCALE:GREGORIAN
BEGIN:VEVENT
DTSTART:20231210T140000Z
DTEND:20231210T200000Z
X-MICROSOFT-CDO-ALLDAYEVENT:FALSE
SUMMARY:Santa's Workshop at Castle Farms
DESCRIPTION:Build something with Santa!\n\nIt's time to build and craft with Santa in his Workshop at Castle Farms!  Santa's Workshop sessions will be held on Saturday and Sunday\, December 9 and 10\, 2022 at pre-scheduled times throughout the day   You can enjoy hot cocoa and a treat with Santa as well as a story.  Professional photos with Santa in his Workshop are also included!    tickets must be reserved in advance.
X-ALT-DESC;FMTTYPE=text/html:<strong>Build something with Santa!</strong><br />\n<span style="font-family:calibri\,sans-serif\;"><span style="font-size:11.0pt\;">It&rsquo\;s time to build and craft with Santa in his Workshop at Castle Farms!&nbsp\; Santa&rsquo\;s Workshop sessions will be held on Saturday and Sunday\, December 9 and 10\, 2022 at pre-scheduled times throughout the day&nbsp\; &nbsp\;You can enjoy hot cocoa and a treat with Santa as well as a story.&nbsp\; Professional photos with Santa in his Workshop are also included!&nbsp\; &nbsp\; tickets must be reserved in advance.</span></span>
LOCATION:5052 M-66 N Charlevoix MI
UID:e.2409.40278
SEQUENCE:3
DTSTAMP:20260419T180221Z
URL:https://business.elkrapidschamber.org/events/details/santa-s-workshop-at-castle-farms-12-10-2023-40278
END:VEVENT

END:VCALENDAR
