BEGIN:VCALENDAR
VERSION:2.0
PRODID:-//ChamberMaster//Event Calendar 2.0//EN
METHOD:PUBLISH
X-PUBLISHED-TTL:P3D
REFRESH-INTERVAL:P3D
CALSCALE:GREGORIAN
BEGIN:VEVENT
DTSTART:20230917T170000Z
DTEND:20230917T220000Z
X-MICROSOFT-CDO-ALLDAYEVENT:FALSE
SUMMARY:Sacred Heart Church Golf OUting
DESCRIPTION:SACRED HEART PRESS RELEASE\n\nFOR IMMEDIATE RELEASE\n\nAugust 11\, 2023\n\nSacred Heart Catholic Parish in Elk Rapids is hosting a Golf Outing on Sunday\, September 17\, at Antrim Dells Golf Course\, with a shotgun start at 1 p.m.\n\nThe proceeds from the Golf Outing will go toward Sacred Heart's capital campaign\, the goal of which is to build a new church that honors the parish's history while providing much-needed facility updates.\n\nA Sacred Heart parishioner and one of the golf outing organizers Bob Chaphalkar and his family are deeply connected to Sacred Heart and have been attending for over 49 years.  "My wife and I were married in this church and so were her parents. Our children and many cousins were baptized here. This project has been in the works for years. We want to see the vision become a reality."\n\nTickets are available now for $100 per person and cover a fun-filled day\, including 18 holes of golf\, a golf cart rental\, and dinner. Golfers are encouraged to sign up by September 10. All are welcome! Golfers can register with a team of 4 or individually. Reserve your place by visiting www.sacredheartelkrapids.org\, calling 231-322-3159\, or stopping by the parish office at Sacred Heart.
X-ALT-DESC;FMTTYPE=text/html:<p style="box-sizing: border-box\; margin: 0in 0in 8pt\; font-size: 12pt\; font-family: &quot\;Times New Roman&quot\;\, serif\;"><span style="box-sizing: border-box\; font-weight: bolder\;"><span style="box-sizing: border-box\; font-size: 16pt\; font-family: Calibri\, sans-serif\; color: rgb(80\, 0\, 80)\; background-image: initial\; background-position: initial\; background-size: initial\; background-repeat: initial\; background-origin: initial\; background-clip: initial\;">SACRED HEART PRESS RELEASE</span></span></p>\n\n<p style="box-sizing: border-box\; margin: 0in 0in 8pt\; line-height: 11.75pt\; font-size: 12pt\; font-family: &quot\;Times New Roman&quot\;\, serif\;"><span style="box-sizing: border-box\; font-weight: bolder\;"><span style="box-sizing: border-box\; font-size: 11pt\; font-family: Calibri\, sans-serif\; color: rgb(80\, 0\, 80)\; background-image: initial\; background-position: initial\; background-size: initial\; background-repeat: initial\; background-origin: initial\; background-clip: initial\;">FOR IMMEDIATE RELEASE</span></span></p>\n\n<p style="box-sizing: border-box\; margin: 0in 0in 8pt\; line-height: 11.75pt\; background-image: initial\; background-position: initial\; background-size: initial\; background-repeat: initial\; background-origin: initial\; background-clip: initial\; font-size: 12pt\; font-family: &quot\;Times New Roman&quot\;\, serif\;">August 11\, 2023</p>\n\n<p style="box-sizing: border-box\; margin: 0in 0in 8pt\; line-height: 11.75pt\; background-image: initial\; background-position: initial\; background-size: initial\; background-repeat: initial\; background-origin: initial\; background-clip: initial\; font-size: 12pt\; font-family: &quot\;Times New Roman&quot\;\, serif\;"><span style="box-sizing: border-box\; font-size: 11pt\; font-family: Calibri\, sans-serif\; color: rgb(80\, 0\, 80)\;">Sacred Heart Catholic Parish in Elk Rapids is hosting a Golf Outing on Sunday\, September 17\, at Antrim Dells Golf Course\, with a shotgun start at 1 p.m.</span></p>\n\n<p style="box-sizing: border-box\; margin: 0in 0in 8pt\; line-height: 11.75pt\; font-size: 12pt\; font-family: &quot\;Times New Roman&quot\;\, serif\;"><span style="box-sizing: border-box\; font-size: 11pt\; font-family: Calibri\, sans-serif\; color: rgb(80\, 0\, 80)\; background-image: initial\; background-position: initial\; background-size: initial\; background-repeat: initial\; background-origin: initial\; background-clip: initial\;">The proceeds from the Golf Outing will go toward Sacred Heart&#39\;s capital campaign\, the goal of which is to build a new church that honors the parish&#39\;s history while providing much-needed facility updates.</span></p>\n\n<p style="box-sizing: border-box\; margin: 0in 0in 8pt\; line-height: 11.75pt\; background-image: initial\; background-position: initial\; background-size: initial\; background-repeat: initial\; background-origin: initial\; background-clip: initial\; font-size: 12pt\; font-family: &quot\;Times New Roman&quot\;\, serif\;"><span style="box-sizing: border-box\; font-size: 11pt\; font-family: Calibri\, sans-serif\; color: rgb(80\, 0\, 80)\;">A Sacred Heart parishioner and one of the golf outing organizers&nbsp\;Bob Chaphalkar and his family are deeply connected to Sacred Heart and have been attending for over 49 years.&nbsp\; &quot\;My wife and I were married in this church and so were her parents. Our children and many cousins were baptized here. This project has been in the works for years. We want to see the vision become a reality.&quot\;</span></p>\n\n<p style="box-sizing: border-box\; margin: 0in 0in 8pt\; line-height: 11.75pt\; background-image: initial\; background-position: initial\; background-size: initial\; background-repeat: initial\; background-origin: initial\; background-clip: initial\; font-size: 12pt\; font-family: &quot\;Times New Roman&quot\;\, serif\;"><span style="box-sizing: border-box\; font-size: 11pt\; font-family: Calibri\, sans-serif\; color: rgb(80\, 0\, 80)\;">Tickets are available now for $100 per person and cover a fun-filled day\, including 18 holes of golf\, a golf cart rental\, and dinner. Golfers are encouraged to sign up by September 10. All are welcome! Golfers can register with a team of 4 or individually. Reserve your place by visiting&nbsp\;<a href="http://www.sacredheartelkrapids.org/" rel="noreferrer" style="box-sizing: border-box\; color: rgb(5\, 99\, 193)\; text-decoration-line: none\; background-color: transparent\;" target="_blank">www.sacredheartelkrapids.org</a>\, calling 231-322-3159\, or stopping by the parish office at Sacred Heart.&nbsp\;</span></p>\n\n<div style="box-sizing: border-box\;">&nbsp\;</div>\n
LOCATION:Antrim Dells
UID:e.2409.38805
SEQUENCE:3
DTSTAMP:20260419T222318Z
URL:https://business.elkrapidschamber.org/events/details/sacred-heart-church-golf-outing-38805
END:VEVENT

END:VCALENDAR
