BEGIN:VCALENDAR
VERSION:2.0
PRODID:-//ChamberMaster//Event Calendar 2.0//EN
METHOD:PUBLISH
X-PUBLISHED-TTL:P3D
REFRESH-INTERVAL:P3D
CALSCALE:GREGORIAN
BEGIN:VEVENT
DTSTART:20191208T140000Z
DTEND:20191208T163000Z
X-MICROSOFT-CDO-ALLDAYEVENT:FALSE
SUMMARY:Sacred Heart Church Buffet Breakfast
DESCRIPTION:Buffet Breakfast sponsored by the Knights of Columbus in the Community Room.
X-ALT-DESC;FMTTYPE=text/html:Buffet Breakfast sponsored by the Knights of Columbus in the Community Room.
LOCATION:Sacred Heart Church 143 Charles Street Elk Rapids
UID:e.2409.22396
SEQUENCE:3
DTSTAMP:20260419T141436Z
URL:https://business.elkrapidschamber.org/events/details/sacred-heart-church-buffet-breakfast-22396
END:VEVENT

END:VCALENDAR
