BEGIN:VCALENDAR
VERSION:2.0
PRODID:-//ChamberMaster//Event Calendar 2.0//EN
METHOD:PUBLISH
X-PUBLISHED-TTL:P3D
REFRESH-INTERVAL:P3D
CALSCALE:GREGORIAN
BEGIN:VEVENT
DTSTART:20191102T140000Z
DTEND:20191102T190000Z
X-MICROSOFT-CDO-ALLDAYEVENT:FALSE
SUMMARY:Rustic Resist Watercolor Workshop at Twisted Fish
DESCRIPTION:Rustic Resist Watercolor Workshop with Betty Bea Washburn. Learn three types of resist plus floating and pouring watercolor techniques to create a charming and rustic watercolor scene. Bring our paints and brushes. Paper will be provided.\n\n$110 (Lunch included)\n\nPlease contact the gallery at 231-264-0123.
X-ALT-DESC;FMTTYPE=text/html:<font color="#222222" face="times new roman"><span style="font-size: 17.3333px\;">Rustic Resist Watercolor Workshop with Betty Bea Washburn. Learn three types of resist plus floating and pouring watercolor techniques to create a charming and rustic watercolor scene. Bring our paints and brushes. Paper will be provided.<br />\n$110 (Lunch included)<br />\nPlease contact the gallery at 231-264-0123.</span></font>
LOCATION:Twisted Fish Gallery 10443 S. Bayshore Dr Elk Rapids
UID:e.2409.22053
SEQUENCE:3
DTSTAMP:20260421T205532Z
URL:https://business.elkrapidschamber.org/events/details/rustic-resist-watercolor-workshop-at-twisted-fish-22053
END:VEVENT

END:VCALENDAR
